BEGIN:VCALENDAR
VERSION:2.0
PRODID:-//勝覺網 - ECPv6.15.17.1//NONSGML v1.0//EN
CALSCALE:GREGORIAN
METHOD:PUBLISH
X-ORIGINAL-URL:https://victorious-bodhi.org
X-WR-CALDESC:勝覺網的活动
REFRESH-INTERVAL;VALUE=DURATION:PT1H
X-Robots-Tag:noindex
X-PUBLISHED-TTL:PT1H
BEGIN:VTIMEZONE
TZID:Asia/Singapore
BEGIN:STANDARD
TZOFFSETFROM:+0800
TZOFFSETTO:+0800
TZNAME:+08
DTSTART:20230101T000000
END:STANDARD
END:VTIMEZONE
BEGIN:VEVENT
DTSTART;TZID=Asia/Singapore:20240927T080000
DTEND;TZID=Asia/Singapore:20240929T170000
DTSTAMP:20260424T095507
CREATED:20241016T075750Z
LAST-MODIFIED:20250410T143326Z
UID:988-1727424000-1727629200@victorious-bodhi.org
SUMMARY:寶上師北美溫哥華法筵花絮（2024.09.27-29）
DESCRIPTION:☸️加拿大溫哥華： 9月27日2pm-5pm \n上師密集了義灌頂 བླ་མ་གསང་འདུས་དོན་དབང་། The Essential Empowerment of the Guru Guhyasamāja (Secret Assembly) \n9月27日7pm-9pm 上师意集了義灌頂 (桑吉林巴) བླ་མ་དགོངས་འདུས་དོན་དབང་། The Essential Empowerment of the “Guruds Assemblage of Realization” according to the Sangye Lingpa Tradition \n9月28日2pm-5pm 教集法海 (邬坚林巴) བཀའ་འདུས་ཆོས་ཀྱི་རྒྱ་མཚོའི་སྙིང་པོ་དོན་དབང་། The Essential Empowerment of “Ocean of Dharmas of the Gathering of the Transmitted Precepts” according to the Orgyen Lingpa Tradition \n9月28日6:30pm 龍薩寧波憤怒蓮師《智慧熾燃》 གུར་དྲག་ཡེ་ཤེས་རབ་འབར་དོན་དབང་། The Essential Empowerment of The Wrathful Guru (Guru Drakpo) – Blazing Wisdom- according to the Longsal Nyingpo Tradition \n9月29日2pm～ 一子續灌頂 རྫོགས་ཆེན་སངས་རྒྱས་སྲས་གཅིག་བཏགས་གྲོལ་དབང་། The Great Perfection “Liberation by Wearing” Empowerment of the “Buddha’s Sole Child Tantra.” \n9月29日6:00pm～ 三金剛禪修教授 རྡོ་རྗེ་གསུམ་གྱི་སྒོམ་བཟླས། The Three Vajra Meditation Teachings
URL:https://victorious-bodhi.org/event/%e5%af%b6%e4%b8%8a%e5%b8%ab%e5%8c%97%e7%be%8e%e6%ba%ab%e5%93%a5%e8%8f%af%e6%b3%95%e7%ad%b5%e8%8a%b1%e7%b5%ae%ef%bc%882024-09-27-29%ef%bc%89/
ATTACH;FMTTYPE=image/webp:https://victorious-bodhi.org/wp-content/uploads/2024/10/截屏2024-10-16-15.56.39.webp
END:VEVENT
END:VCALENDAR