BEGIN:VCALENDAR
VERSION:2.0
PRODID:-//勝覺網 - ECPv6.15.17.1//NONSGML v1.0//EN
CALSCALE:GREGORIAN
METHOD:PUBLISH
X-ORIGINAL-URL:https://victorious-bodhi.org
X-WR-CALDESC:勝覺網的活动
REFRESH-INTERVAL;VALUE=DURATION:PT1H
X-Robots-Tag:noindex
X-PUBLISHED-TTL:PT1H
BEGIN:VTIMEZONE
TZID:Asia/Singapore
BEGIN:STANDARD
TZOFFSETFROM:+0800
TZOFFSETTO:+0800
TZNAME:+08
DTSTART:20230101T000000
END:STANDARD
END:VTIMEZONE
BEGIN:VEVENT
DTSTART;TZID=Asia/Singapore:20241031T103000
DTEND;TZID=Asia/Singapore:20241110T170000
DTSTAMP:20260424T065205
CREATED:20241027T100801Z
LAST-MODIFIED:20241108T023548Z
UID:2059-1730370600-1731258000@victorious-bodhi.org
SUMMARY:慧光堪布新加坡弘法之旅
DESCRIPTION:
URL:https://victorious-bodhi.org/event/%e6%85%a7%e5%85%89%e5%a0%aa%e5%b8%83%e6%96%b0%e5%8a%a0%e5%9d%a1%e5%bc%98%e6%b3%95%e4%b9%8b%e6%97%85/
CATEGORIES:法讯行程
ATTACH;FMTTYPE=image/png:https://victorious-bodhi.org/wp-content/uploads/2024/10/截屏2024-10-27-18.11.00.png
END:VEVENT
END:VCALENDAR