BEGIN:VCALENDAR
VERSION:2.0
PRODID:-//勝覺網 - ECPv6.15.17.1//NONSGML v1.0//EN
CALSCALE:GREGORIAN
METHOD:PUBLISH
X-ORIGINAL-URL:https://victorious-bodhi.org
X-WR-CALDESC:勝覺網的活动
REFRESH-INTERVAL;VALUE=DURATION:PT1H
X-Robots-Tag:noindex
X-PUBLISHED-TTL:PT1H
BEGIN:VTIMEZONE
TZID:Asia/Singapore
BEGIN:STANDARD
TZOFFSETFROM:+0800
TZOFFSETTO:+0800
TZNAME:+08
DTSTART:20230101T000000
END:STANDARD
END:VTIMEZONE
BEGIN:VEVENT
DTSTART;TZID=Asia/Singapore:20241124T140000
DTEND;TZID=Asia/Singapore:20241124T170000
DTSTAMP:20260424T052849
CREATED:20241124T013415Z
LAST-MODIFIED:20241124T015018Z
UID:8008-1732456800-1732467600@victorious-bodhi.org
SUMMARY:ATI实修班第一阶段四转心法线上答疑
DESCRIPTION:尊敬的各位师兄： \n\n\n\n感恩宝上师慈悲！兹定于： \n\n\n\n\n新西兰时间：11月24日（周日）晚19:00\n\n\n\n北京时间：11月24日（周日）下午14:00\n\n\n\n美国太平洋时间：11月23日（周六）晚22:00\n\n\n\n\n宝上师将为贝玛阿諦金刚桥实修班学员进行第一阶段四转心法线上答疑。 \n\n\n\nZoom会议信息：\n\n\n\n\n会议号：860 456 7750\n\n\n\n密码：334134\n\n\n\n\n重要事项：\n\n\n\n\n请各组组长收集学员问题，并于周日之前发送给义工。\n\n\n\n宝上师特别慈悲开放：欢迎有意向参加实修的新学员参加，并将给予大家口传。\n\n\n\n\n温馨提示：\n\n\n\n\n请提前准备好问题\n\n\n\n建议提前5-10分钟进入会议室\n\n\n\n\n如有任何疑问，请联系各自组长或义工。
URL:https://victorious-bodhi.org/event/ati%e5%ae%9e%e4%bf%ae%e7%8f%ad%e7%ba%bf%e4%b8%8a%e7%ad%94%e7%96%91%e9%80%9a%e7%9f%a5/
ATTACH;FMTTYPE=image/jpeg:https://victorious-bodhi.org/wp-content/uploads/2024/10/大圆满金刚桥实修.jpg
END:VEVENT
END:VCALENDAR