BEGIN:VCALENDAR
VERSION:2.0
PRODID:-//勝覺網 - ECPv6.15.17.1//NONSGML v1.0//EN
CALSCALE:GREGORIAN
METHOD:PUBLISH
X-ORIGINAL-URL:https://victorious-bodhi.org
X-WR-CALDESC:勝覺網的活动
REFRESH-INTERVAL;VALUE=DURATION:PT1H
X-Robots-Tag:noindex
X-PUBLISHED-TTL:PT1H
BEGIN:VTIMEZONE
TZID:Asia/Singapore
BEGIN:STANDARD
TZOFFSETFROM:+0800
TZOFFSETTO:+0800
TZNAME:+08
DTSTART:20230101T000000
END:STANDARD
END:VTIMEZONE
BEGIN:VEVENT
DTSTART;TZID=Asia/Singapore:20241129T190000
DTEND;TZID=Asia/Singapore:20241130T190000
DTSTAMP:20260424T035516
CREATED:20241125T062236Z
LAST-MODIFIED:20241125T062238Z
UID:8371-1732906800-1732993200@victorious-bodhi.org
SUMMARY:怙主众会主玛哈嘎拉供养法会
DESCRIPTION:日期2024年11月29、30日\n\n\n\n纽西兰时间19点\n\n\n\n地点:122 Wheturangi Rd\,Greenlane\n\n\n\n\n宝上师慈悲允诺安排玛哈嘎拉心咒网络口传并持诵实修，纽西兰时间晚20点开放直播(得过无上密绩灌顶的信众可参加)，直播信息稍后公布
URL:https://victorious-bodhi.org/event/%e6%80%99%e4%b8%bb%e4%bc%97%e4%bc%9a%e4%b8%bb%e7%8e%9b%e5%93%88%e5%98%8e%e6%8b%89%e4%be%9b%e5%85%bb%e6%b3%95%e4%bc%9a/
CATEGORIES:法讯行程
ATTACH;FMTTYPE=image/jpeg:https://victorious-bodhi.org/wp-content/uploads/2024/11/微信图片_202411251409001.jpg
END:VEVENT
END:VCALENDAR