BEGIN:VCALENDAR
VERSION:2.0
PRODID:-//勝覺網 - ECPv6.15.17.1//NONSGML v1.0//EN
CALSCALE:GREGORIAN
METHOD:PUBLISH
X-ORIGINAL-URL:https://victorious-bodhi.org
X-WR-CALDESC:勝覺網的活动
REFRESH-INTERVAL;VALUE=DURATION:PT1H
X-Robots-Tag:noindex
X-PUBLISHED-TTL:PT1H
BEGIN:VTIMEZONE
TZID:Asia/Singapore
BEGIN:STANDARD
TZOFFSETFROM:+0800
TZOFFSETTO:+0800
TZNAME:+08
DTSTART:20230101T000000
END:STANDARD
END:VTIMEZONE
BEGIN:VEVENT
DTSTART;TZID=Asia/Singapore:20241208T140000
DTEND;TZID=Asia/Singapore:20241208T170000
DTSTAMP:20260424T035518
CREATED:20241203T081232Z
LAST-MODIFIED:20241205T153022Z
UID:9140-1733666400-1733677200@victorious-bodhi.org
SUMMARY:藥師佛供養法會 Medicine Buddha Offering Ceremony
DESCRIPTION:藥師佛供養法會 Medicine Buddha Offering Ceremony日期 Date: 2024年12月8日 December 8\, 2024時間 Time: \n\n\n\n\n紐西蘭時間 NZT: 19:00\n\n\n\n亞洲時間 CST: 14:00\n\n\n\n太平洋時間 PDT: 22:00 (-1 day)\n\n\n\n\n直播平台： \n\n\n\nZoom直播：ID：82620188735密碼：334134鏈接：https://us06web.zoom.us/j/82620188735?pwd=QGbqt3T6A1oHRrrJk9P4xzVPJhFqgT.1 \n\n\n\nFacebook直播：https://www.facebook.com/profile.php?id=100093476234747&mibextid=LQQJ4d \n\n\n\nYouTube直播：https://youtube.com/@PadmaAti \n\n\n\n【每週常規課程】Weekly Regular Classes:時間 Time: \n\n\n\n\n紐西蘭時間 NZT: 15:00-17:00\n\n\n\n亞洲時間 CST: 10:00-12:00\n\n\n\n太平洋時間 PDT: 19:00-21:00 (前一天 previous day)\n\n\n\n\n課程安排 Class Schedule: \n\n\n\n\n週一 Monday: 《隆欽巴祖師傳》Biography of Longchenpa (本週暫停 currently paused)\n\n\n\n週二 Tuesday: 《善財童子五十三參》Sudhana’s Fifty-Three Spiritual Encounters – 文彥老師 Teacher Wenyan\n\n\n\n週三 Wednesday: 《親友書》Letter to a Friend – 慧光堪布 Khenpo Huiguang\n\n\n\n週四 Thursday: 《蓮花生大師傳》Biography of Guru Padmasambhava – 慧幢老師 Teacher Huichuang\n\n\n\n週五 Friday: 《釋迦牟尼佛傳》Biography of Shakyamuni Buddha – 謝京恩老師 Teacher Xie Jingen\n\n\n\n\n直播平台 Streaming Platforms: \n\n\n\nZoom直播：ID：860 456 7750密碼：334134鏈接：https://us06web.zoom.us/j/8604567750?pwd=mRgNM1OSuFuU2lJ8rSDAVfkmDVsA7a.1 \n\n\n\nFacebook直播：https://www.facebook.com/profile.php?id=100093476234747&mibextid=LQQJ4d \n\n\n\nYouTube直播：https://youtube.com/@PadmaAti \n\n\n\n\n\n\n\n聯絡方式 Contact Information: \n\n\n\nWeChat: j7788990; BrightSophie; lijiao_gsdx \n\n\n\n電子郵件 Email: info@atiorg.com \n\n\n\n電話/WhatsApp Phone: \n\n\n\n+64 21101085 \n\n\n\n+64 212163216 \n\n\n\n+64 211385113
URL:https://victorious-bodhi.org/event/%e8%97%a5%e5%b8%ab%e4%bd%9b%e4%be%9b%e9%a4%8a%e6%b3%95%e6%9c%83-medicine-buddha-offering-ceremony/
ATTACH;FMTTYPE=image/jpeg:https://victorious-bodhi.org/wp-content/uploads/2024/12/微信图片_202412031609311.jpg
END:VEVENT
END:VCALENDAR