BEGIN:VCALENDAR
VERSION:2.0
PRODID:-//勝覺網 - ECPv6.15.17.1//NONSGML v1.0//EN
CALSCALE:GREGORIAN
METHOD:PUBLISH
X-WR-CALNAME:勝覺網
X-ORIGINAL-URL:https://victorious-bodhi.org
X-WR-CALDESC:勝覺網的活动
REFRESH-INTERVAL;VALUE=DURATION:PT1H
X-Robots-Tag:noindex
X-PUBLISHED-TTL:PT1H
BEGIN:VTIMEZONE
TZID:Asia/Singapore
BEGIN:STANDARD
TZOFFSETFROM:+0800
TZOFFSETTO:+0800
TZNAME:+08
DTSTART:20230101T000000
END:STANDARD
END:VTIMEZONE
BEGIN:VEVENT
DTSTART;TZID=Asia/Singapore:20241231T090000
DTEND;TZID=Asia/Singapore:20241231T180000
DTSTAMP:20260424T021638
CREATED:20241224T021258Z
LAST-MODIFIED:20241230T003356Z
UID:11069-1735635600-1735668000@victorious-bodhi.org
SUMMARY:12月31日—多罗观音平安灯会
DESCRIPTION:☸️12月31日 （星期二）1、早上9點遶境2、下午5:00-6:00 十萬燈供盞燈儀式3、晚上7點起至翌日（元月1日）清晨12:30 /億遍度母實修，地點：妙乘法苑說明：歡迎共襄盛舉，請點入填寫報名單https://forms.gle/x5pCgqchv6hG4d3h71）、認供祈願樹2）、十萬燈供之光明燈3）、隨喜護持（以國際情勢堪憂、民生向寥，更需大家請一日世俗價、共同為「民生樂利、國泰民安、世界和平」的願想而一起圓成，同願共乘！阿彌陀佛！
URL:https://victorious-bodhi.org/event/12%e6%9c%8831%e6%97%a5-%e5%a4%9a%e7%bd%97%e8%a7%82%e9%9f%b3%e5%b9%b3%e5%ae%89%e7%81%af%e4%bc%9a/
ATTACH;FMTTYPE=image/jpeg:https://victorious-bodhi.org/wp-content/uploads/2024/11/464917710_1094936562091505_7737369737696111452_n.jpg
END:VEVENT
BEGIN:VEVENT
DTSTART;TZID=Asia/Singapore:20241231T180000
DTEND;TZID=Asia/Singapore:20250101T000000
DTSTAMP:20260424T021638
CREATED:20241231T100000Z
LAST-MODIFIED:20250410T143223Z
UID:12057-1735668000-1735689600@victorious-bodhi.org
SUMMARY:来自上师的祝福：感恩有您
DESCRIPTION:
URL:https://victorious-bodhi.org/event/%e6%9d%a5%e8%87%aa%e4%b8%8a%e5%b8%88%e7%9a%84%e7%a5%9d%e7%a6%8f%ef%bc%9a%e6%84%9f%e6%81%a9%e6%9c%89%e6%82%a8/
CATEGORIES:节日祝福
ATTACH;FMTTYPE=image/jpeg:https://victorious-bodhi.org/wp-content/uploads/2024/12/屏幕截图-2024-12-31-174350.jpg
END:VEVENT
END:VCALENDAR