BEGIN:VCALENDAR
VERSION:2.0
PRODID:-//勝覺網 - ECPv6.15.17.1//NONSGML v1.0//EN
CALSCALE:GREGORIAN
METHOD:PUBLISH
X-ORIGINAL-URL:https://victorious-bodhi.org
X-WR-CALDESC:勝覺網的活动
REFRESH-INTERVAL;VALUE=DURATION:PT1H
X-Robots-Tag:noindex
X-PUBLISHED-TTL:PT1H
BEGIN:VTIMEZONE
TZID:Asia/Singapore
BEGIN:STANDARD
TZOFFSETFROM:+0800
TZOFFSETTO:+0800
TZNAME:+08
DTSTART:20240101T000000
END:STANDARD
END:VTIMEZONE
BEGIN:VEVENT
DTSTART;TZID=Asia/Singapore:20250108T150000
DTEND;TZID=Asia/Singapore:20250109T170000
DTSTAMP:20260424T035432
CREATED:20241230T005804Z
LAST-MODIFIED:20250210T161327Z
UID:11697-1736348400-1736442000@victorious-bodhi.org
SUMMARY:元月8~9日 大圆满耳传金刚桥：皈依的讲解
DESCRIPTION:上课老师:慧光堪布Teacher: Khenpo Huiguang \n\n\n\n大圓滿耳傳金剛橋: 轮回过患实修引领、皈依的讲解 \n\n\n\nVajra Bridge of the Great Perfection (Guidance in practical cultivationregarding the sufferings of samsara\, An explanation of taking refuge \n\n\n\n日期 2025年1月8、9日(皈依的讲解) \n\n\n\n紐西蘭時間20點;亚洲时间15点;太平洋时间23点(-1天) \n\n\n\n参加要求:得过金刚桥口传的均可参加直播信息Zoom:86852490276;密码:334134 \n\n\n\n電子郵件 Email: info@atiorg.com; \n\n\n\n電话 Phone/What’s App: +(64)211010851;+(64)212163216;+(64)211385113; \n\n\n\nWechat:j7788990; BrightSophie; lijiao_gsdx
URL:https://victorious-bodhi.org/event/%e5%85%83%e6%9c%8889%e6%97%a5-%e5%a4%a7%e5%9c%86%e6%bb%a1%e8%80%b3%e4%bc%a0%e9%87%91%e5%88%9a%e6%a1%a5%ef%bc%9a%e7%9a%88%e4%be%9d%e7%9a%84%e8%ae%b2%e8%a7%a3/
ATTACH;FMTTYPE=image/jpeg:https://victorious-bodhi.org/wp-content/uploads/2024/12/微信图片_20241227082919-1.jpg
END:VEVENT
END:VCALENDAR