BEGIN:VCALENDAR
VERSION:2.0
PRODID:-//勝覺網 - ECPv6.15.17.1//NONSGML v1.0//EN
CALSCALE:GREGORIAN
METHOD:PUBLISH
X-WR-CALNAME:勝覺網
X-ORIGINAL-URL:https://victorious-bodhi.org
X-WR-CALDESC:勝覺網的活动
REFRESH-INTERVAL;VALUE=DURATION:PT1H
X-Robots-Tag:noindex
X-PUBLISHED-TTL:PT1H
BEGIN:VTIMEZONE
TZID:Asia/Singapore
BEGIN:STANDARD
TZOFFSETFROM:+0800
TZOFFSETTO:+0800
TZNAME:+08
DTSTART:20240101T000000
END:STANDARD
END:VTIMEZONE
BEGIN:VEVENT
DTSTART;TZID=Asia/Singapore:20250209T093000
DTEND;TZID=Asia/Singapore:20250209T170000
DTSTAMP:20260424T003740
CREATED:20250125T101003Z
LAST-MODIFIED:20250210T160937Z
UID:17749-1739093400-1739120400@victorious-bodhi.org
SUMMARY:2月9日星期日仁珍千宝仁波切讲解准提法门
DESCRIPTION:灌顶、口传、讲解，缺一不可，曾领受准提灌顶的法友，可把握2/9的实修导引： \n\n\n\n早上9:30或10:00  准提法门实修导引、共修 \n\n\n\n1、限曾受过此法门灌顶者。 \n\n\n\n2、请自备铃杵 \n\n\n\n3、请携带大林灌顶时所发仪轨 \n\n\n\n下午2:30大圆满金刚桥入门实修导引与问答 \n\n\n\n1、为初入门者的实修引导 \n\n\n\n2、请自备法本，特别是第四册，没有的话可现场请供！ \n\n\n\n地点：妙乘法苑台中市神冈区神清路322号
URL:https://victorious-bodhi.org/event/2%e6%9c%889%e6%97%a5-%e6%ba%96%e6%8f%90%e6%b3%95%e9%96%80%e5%af%a6%e4%bf%ae%e5%b0%8e%e5%bc%95%e3%80%81%e5%85%b1%e4%bf%ae/
ATTACH;FMTTYPE=image/jpeg:https://victorious-bodhi.org/wp-content/uploads/2025/01/20250128.jpg
END:VEVENT
END:VCALENDAR