BEGIN:VCALENDAR
VERSION:2.0
PRODID:-//勝覺網 - ECPv6.15.17.1//NONSGML v1.0//EN
CALSCALE:GREGORIAN
METHOD:PUBLISH
X-WR-CALNAME:勝覺網
X-ORIGINAL-URL:https://victorious-bodhi.org
X-WR-CALDESC:勝覺網的活动
REFRESH-INTERVAL;VALUE=DURATION:PT1H
X-Robots-Tag:noindex
X-PUBLISHED-TTL:PT1H
BEGIN:VTIMEZONE
TZID:Asia/Singapore
BEGIN:STANDARD
TZOFFSETFROM:+0800
TZOFFSETTO:+0800
TZNAME:+08
DTSTART:20240101T000000
END:STANDARD
END:VTIMEZONE
BEGIN:VEVENT
DTSTART;TZID=Asia/Singapore:20250222T190000
DTEND;TZID=Asia/Singapore:20250222T210000
DTSTAMP:20260424T003745
CREATED:20250222T020047Z
LAST-MODIFIED:20250222T020050Z
UID:18797-1740250800-1740258000@victorious-bodhi.org
SUMMARY:空行母薈供日（第1場）
DESCRIPTION:空行母薈供日亞洲時間: 2025年2月22日星期六 晚上7點 \n\n\n\n加入Zoom會議https://us06web.zoom.us/j/88479148260?pwd=P6EbXcnZP9Dsa7aRTpeU0N8BU1R9GX.1 \n\n\n\n會議ID: 884 7914 8260密碼: 571575
URL:https://victorious-bodhi.org/event/%e7%a9%ba%e8%a1%8c%e6%af%8d%e8%96%88%e4%be%9b%e6%97%a5%ef%bc%88%e7%ac%ac1%e5%a0%b4%ef%bc%89/
END:VEVENT
END:VCALENDAR