BEGIN:VCALENDAR
VERSION:2.0
PRODID:-//勝覺網 - ECPv6.15.17.1//NONSGML v1.0//EN
CALSCALE:GREGORIAN
METHOD:PUBLISH
X-WR-CALNAME:勝覺網
X-ORIGINAL-URL:https://victorious-bodhi.org
X-WR-CALDESC:勝覺網的活动
REFRESH-INTERVAL;VALUE=DURATION:PT1H
X-Robots-Tag:noindex
X-PUBLISHED-TTL:PT1H
BEGIN:VTIMEZONE
TZID:Asia/Singapore
BEGIN:STANDARD
TZOFFSETFROM:+0800
TZOFFSETTO:+0800
TZNAME:+08
DTSTART:20240101T000000
END:STANDARD
END:VTIMEZONE
BEGIN:VEVENT
DTSTART;TZID=Asia/Singapore:20250314T100000
DTEND;TZID=Asia/Singapore:20250314T120000
DTSTAMP:20260423T231139
CREATED:20250311T053620Z
LAST-MODIFIED:20250311T055932Z
UID:19093-1741946400-1741953600@victorious-bodhi.org
SUMMARY:3月14日 贝玛阿諦学院2025年开学通知
DESCRIPTION:尊敬的各位学员： \n\n\n\n兹定于2025年3月14日（藏历木蛇年神变月神变节）为贝玛阿諦学院2025年开学日。宝上师慈悲开许全程公开直播。具体安排如下： \n\n\n\n\n开学日安排 (2025年3月14日) • 新西兰时间下午15:00 (中国时间上午10:00 / 美国太平洋时间前一日晚上19:00) :◦ 宝上师口传、念经、上课◦ 内容包括：大自在祈祷文、圣八吉祥颂、十六罗汉供养文、随念三宝经等• 新西兰时间晚上20:00 (中国时间下午15:00 / 美国太平洋时间凌晨0点) :◦ 授菩萨戒（含皈依戒）◦ 重要说明 :▪ 首次参加受菩萨戒者需提前报名，补戒者无需报名▪ 如需获得菩萨法名，请务必报名并留下联络方式。报名链接https://forms.office.com/r/XqyjnCvQua▪ 请大家提前扫码下载受戒仪轨  20250314受菩萨戒仪轨下载（公开）请各位学员提前安排时间，准时参加线上直播。\n\n\n\n\n【線上直播平台】Zoom直播：ID：868 6789 868密碼：334134鏈接：https://us06web.zoom.us/j/8686789868?pwd=gwBibbzTuRniuIMUO2UEbF5jj1BFdJ.1 \n\n\n\nYouTube直播：https://youtube.com/@PadmaAti
URL:https://victorious-bodhi.org/event/%e8%b4%9d%e7%8e%9b%e9%98%bf%e8%ab%a6%e5%ad%a6%e9%99%a22025%e5%b9%b4%e5%bc%80%e5%ad%a6%e9%80%9a%e7%9f%a5/
END:VEVENT
BEGIN:VEVENT
DTSTART;TZID=Asia/Singapore:20250314T150000
DTEND;TZID=Asia/Singapore:20250314T170000
DTSTAMP:20260423T231139
CREATED:20250311T054940Z
LAST-MODIFIED:20250312T104156Z
UID:19102-1741964400-1741971600@victorious-bodhi.org
SUMMARY:3月14日 受菩萨戒(文殊菩萨/龙树菩萨中观传轨)
DESCRIPTION:3月14日 受菩萨戒(文殊菩萨/龙树菩萨中观传轨) \n\n\n\n日期 2025年3月14日纽西兰时间20点；亚洲时间15点；太平洋时间凌晨12点地点:122 Wheturangi Rd\, Greenlane\, Auckland\, NZ \n\n\n\n愿意发心者都可以参加。注:第一次参加受菩萨戒需要报名补戒者不需要报名;如需菩萨法名，需要报名留下联络方式。二维码里含受菩萨戒仪轨下载链接。 \n\n\n\n宝上师慈悲允诺安排网络同步受戒并直播：链接：https://us06web.zoom.us/j/8686789868?pwd=gwBibbzTuRniuIMUO2UEbF5jj1BFdJ.1直播信息Zoom:8686789868;密码:334134 \n\n\n\n参考课程：略说菩萨戒（慧光堪布讲述） \n\n\n\n参考文章：菩萨戒｜成佛之因
URL:https://victorious-bodhi.org/event/3%e6%9c%8814%e6%97%a5-%e5%8f%97%e8%8f%a9%e8%90%a8%e6%88%92%e6%96%87%e6%ae%8a%e8%8f%a9%e8%90%a8-%e9%be%99%e6%a0%91%e8%8f%a9%e8%90%a8%e4%b8%ad%e8%a7%82%e4%bc%a0%e8%bd%a8/
ATTACH;FMTTYPE=image/png:https://victorious-bodhi.org/wp-content/uploads/2025/03/20250314_封面.png
END:VEVENT
END:VCALENDAR