BEGIN:VCALENDAR
VERSION:2.0
PRODID:-//勝覺網 - ECPv6.15.17.1//NONSGML v1.0//EN
CALSCALE:GREGORIAN
METHOD:PUBLISH
X-ORIGINAL-URL:https://victorious-bodhi.org
X-WR-CALDESC:勝覺網的活动
REFRESH-INTERVAL;VALUE=DURATION:PT1H
X-Robots-Tag:noindex
X-PUBLISHED-TTL:PT1H
BEGIN:VTIMEZONE
TZID:Asia/Singapore
BEGIN:STANDARD
TZOFFSETFROM:+0800
TZOFFSETTO:+0800
TZNAME:+08
DTSTART:20240101T000000
END:STANDARD
END:VTIMEZONE
BEGIN:VEVENT
DTSTART;TZID=Asia/Singapore:20250322T150000
DTEND;TZID=Asia/Singapore:20250322T170000
DTSTAMP:20260423T230826
CREATED:20250311T055400Z
LAST-MODIFIED:20250311T060230Z
UID:19109-1742655600-1742662800@victorious-bodhi.org
SUMMARY:3月22日 大圆满耳传金刚桥之发心课程
DESCRIPTION:3月22日 大圆满耳传金刚桥之发心课程 \n\n\n\n日期 2025年3月14日纽西兰时间20点；亚洲时间15点；太平洋时间凌晨12点地点:122 Wheturangi Rd\, Greenlane\, Auckland\, NZ \n\n\n\n愿意发心者都可以参加。注:第一次参加受菩萨戒需要报名补戒者不需要报名;如需菩萨法名，需要报名留下联络方式。二维码里含受菩萨戒仪轨下载链接。 \n\n\n\n宝上师慈悲允诺安排网络同步受戒并直播：链接：https://us06web.zoom.us/j/8686789868?pwd=gwBibbzTuRniuIMUO2UEbF5jj1BFdJ.1直播信息Zoom:8686789868;密码:334134
URL:https://victorious-bodhi.org/event/3%e6%9c%8822%e6%97%a5-%e5%a4%a7%e5%9c%86%e6%bb%a1%e8%80%b3%e4%bc%a0%e9%87%91%e5%88%9a%e6%a1%a5%e4%b9%8b%e5%8f%91%e5%bf%83%e8%af%be%e7%a8%8b/
END:VEVENT
END:VCALENDAR