BEGIN:VCALENDAR
VERSION:2.0
PRODID:-//勝覺網 - ECPv6.15.17.1//NONSGML v1.0//EN
CALSCALE:GREGORIAN
METHOD:PUBLISH
X-WR-CALNAME:勝覺網
X-ORIGINAL-URL:https://victorious-bodhi.org
X-WR-CALDESC:勝覺網的活动
REFRESH-INTERVAL;VALUE=DURATION:PT1H
X-Robots-Tag:noindex
X-PUBLISHED-TTL:PT1H
BEGIN:VTIMEZONE
TZID:Asia/Singapore
BEGIN:STANDARD
TZOFFSETFROM:+0800
TZOFFSETTO:+0800
TZNAME:+08
DTSTART:20240101T000000
END:STANDARD
END:VTIMEZONE
BEGIN:VEVENT
DTSTART;TZID=Asia/Singapore:20250418T090000
DTEND;TZID=Asia/Singapore:20250424T170000
DTSTAMP:20260423T213019
CREATED:20250315T060216Z
LAST-MODIFIED:20250315T060555Z
UID:19270-1744966800-1745514000@victorious-bodhi.org
SUMMARY:2025年4月慧光堪布加拿大弘法之旅：4月18日~4月24日 闭关破瓦法实修
DESCRIPTION:2025年4月慧光堪布加拿大弘法之旅PADMA RAJA SOCIETY USA DHARMA ASSEMBLY IN CANADALED BY KHENPO HUI GUANG – April 2025主办单位：Organized by Padma Raja Society USA \n\n\n\n4/18~4/24闭关破瓦法实修Phowa Retreat闭关时间每日上9:00AM-~5:00PM每日可返家报名资格：需接受过无上密续灌顶活动地址：32219 Dewdney TrunkRd\, mission到达后继续开到32271号 \n\n\n\n报名电话：Celine：672-200-9055Maggie：236-412-5199 \n\n\n\n联络讯息：padmarajaus@yahoo.com
URL:https://victorious-bodhi.org/event/2025%e5%b9%b44%e6%9c%88%e6%85%a7%e5%85%89%e5%a0%aa%e5%b8%83%e5%8a%a0%e6%8b%bf%e5%a4%a7%e5%bc%98%e6%b3%95%e4%b9%8b%e6%97%85%ef%bc%9a4-184-24-%e9%97%ad%e5%85%b3%e7%a0%b4%e7%93%a6%e6%b3%95%e5%ae%9e/
ATTACH;FMTTYPE=image/png:https://victorious-bodhi.org/wp-content/uploads/2025/03/4月加拿大弘法之旅.png
END:VEVENT
END:VCALENDAR