BEGIN:VCALENDAR
VERSION:2.0
PRODID:-//勝覺網 - ECPv6.15.17.1//NONSGML v1.0//EN
CALSCALE:GREGORIAN
METHOD:PUBLISH
X-ORIGINAL-URL:https://victorious-bodhi.org
X-WR-CALDESC:勝覺網的活动
REFRESH-INTERVAL;VALUE=DURATION:PT1H
X-Robots-Tag:noindex
X-PUBLISHED-TTL:PT1H
BEGIN:VTIMEZONE
TZID:Asia/Singapore
BEGIN:STANDARD
TZOFFSETFROM:+0800
TZOFFSETTO:+0800
TZNAME:+08
DTSTART:20240101T000000
END:STANDARD
END:VTIMEZONE
BEGIN:VEVENT
DTSTART;TZID=Asia/Singapore:20250503T140000
DTEND;TZID=Asia/Singapore:20250503T170000
DTSTAMP:20260423T195144
CREATED:20250428T080640Z
LAST-MODIFIED:20250502T132302Z
UID:21438-1746280800-1746291600@victorious-bodhi.org
SUMMARY:如何开启永恒的快乐浅谈四无量心
DESCRIPTION:如何开启永恒的快乐浅谈四无量心 ~ 慧光堪布英文翻译：Joey \n\n\n\n日期：2025年5月3日，星期六，下午2点至5点（太平洋标准时间）地点：华盛顿州亨茨角亨茨角大道8485号，邮编98004zoomID：8549296 2385 密码：805817欢迎亲临或通过Zoom加入我们
URL:https://victorious-bodhi.org/event/%e5%a6%82%e4%bd%95%e5%bc%80%e5%90%af%e6%b0%b8%e6%81%92%e7%9a%84%e5%bf%ab%e4%b9%90%e6%b5%85%e8%b0%88%e5%9b%9b%e6%97%a0%e9%87%8f%e5%bf%83/
ATTACH;FMTTYPE=image/jpeg:https://victorious-bodhi.org/wp-content/uploads/2024/12/rigzin_sangha1-1.jpg
END:VEVENT
END:VCALENDAR