BEGIN:VCALENDAR
VERSION:2.0
PRODID:-//勝覺網 - ECPv6.15.17.1//NONSGML v1.0//EN
CALSCALE:GREGORIAN
METHOD:PUBLISH
X-ORIGINAL-URL:https://victorious-bodhi.org
X-WR-CALDESC:勝覺網的活动
REFRESH-INTERVAL;VALUE=DURATION:PT1H
X-Robots-Tag:noindex
X-PUBLISHED-TTL:PT1H
BEGIN:VTIMEZONE
TZID:Asia/Singapore
BEGIN:STANDARD
TZOFFSETFROM:+0800
TZOFFSETTO:+0800
TZNAME:+08
DTSTART:20240101T000000
END:STANDARD
END:VTIMEZONE
BEGIN:VEVENT
DTSTART;TZID=Asia/Singapore:20250504T140000
DTEND;TZID=Asia/Singapore:20250504T170000
DTSTAMP:20260423T195046
CREATED:20250502T131100Z
LAST-MODIFIED:20250504T085155Z
UID:21440-1746367200-1746378000@victorious-bodhi.org
SUMMARY:5月4日 下午2点金刚薩埵上师瑜伽《净修现喜刹土》灌顶前开示
DESCRIPTION:5月4日（礼拜天） 下午2点金刚薩埵上师瑜伽《净修现喜刹土》灌顶前面开示直播 \n\n\n\nZoom ID: 8686789868Password: vajra0504 \n\n\n\n地点：神冈妙乘法苑 台中市神冈区神清路322号 \n\n\n\n《龙钦宁体》法藏，是大伏藏师吉美林巴三次亲见龙钦巴祖师后，由其心意中发显流露出所密藏之甚深伏藏秘法，遍传宁玛及噶举各派中修持之精华法门，历来便受各派瑜伽行者所珍重受持为即生成就之大法。 \n\n\n\n其法门包罗甚广，其中三根本之上师部分，有以金刚薩埵为主尊之《金刚薩埵清净现喜刹土之上师成就》，然其为根本仪轨形式，嗣后有蒋扬钦泽旺波，于净相中复受遍智尊者吉美林巴之智慧身摄受而赐予近传之上师供养仪轨正文及支分各事业仪轨，名为「金刚薩埵上师供养仪轨大乐善道」，收录于钦泽旺波所编辑之《龙钦宁体根本经卷》中。 \n\n\n\n金刚薩埵系三时诸佛身语意德业无尽庄严轮共集所成，圆具寂忿百部天众，在无上瑜伽部中许为百部遍主，除以证最胜成就外，另以净罪闻名，历来宁玛派关于本尊的坛城仪轨虽多，广详者为敏珠林传规金刚薩埵意成就、敦珠法王之「金刚薩埵上师供养仪轨与事业」，以及本法三者为最。 \n\n\n\n本轨除自生坛仪外，另有灌顶、超渡、忏堕、息增怀诛四业简易护摩、胜住、甘露法药等重要法门，是宁体法藏中少有同时包含羯磨法仪的完整仪轨，若能蒙具足性相上师教授，可谓一法万用的无上法宝。
URL:https://victorious-bodhi.org/event/5%e6%9c%884%e6%97%a5-%e4%b8%8b%e5%8d%882%e7%82%b9%e9%87%91%e5%88%9a%e8%96%a9%e5%9f%b5%e4%b8%8a%e5%b8%88%e7%91%9c%e4%bc%bd%e3%80%8a%e5%87%80%e4%bf%ae%e7%8e%b0%e5%96%9c%e5%88%b9%e5%9c%9f%e3%80%8b/
ATTACH;FMTTYPE=image/png:https://victorious-bodhi.org/wp-content/uploads/2025/05/截屏2025-05-02-19.12.55.png
END:VEVENT
END:VCALENDAR