BEGIN:VCALENDAR
VERSION:2.0
PRODID:-//勝覺網 - ECPv6.15.17.1//NONSGML v1.0//EN
CALSCALE:GREGORIAN
METHOD:PUBLISH
X-ORIGINAL-URL:https://victorious-bodhi.org
X-WR-CALDESC:勝覺網的活动
REFRESH-INTERVAL;VALUE=DURATION:PT1H
X-Robots-Tag:noindex
X-PUBLISHED-TTL:PT1H
BEGIN:VTIMEZONE
TZID:Pacific/Auckland
BEGIN:STANDARD
TZOFFSETFROM:+1300
TZOFFSETTO:+1200
TZNAME:NZST
DTSTART:20240406T140000
END:STANDARD
BEGIN:DAYLIGHT
TZOFFSETFROM:+1200
TZOFFSETTO:+1300
TZNAME:NZDT
DTSTART:20240928T140000
END:DAYLIGHT
BEGIN:STANDARD
TZOFFSETFROM:+1300
TZOFFSETTO:+1200
TZNAME:NZST
DTSTART:20250405T140000
END:STANDARD
BEGIN:DAYLIGHT
TZOFFSETFROM:+1200
TZOFFSETTO:+1300
TZNAME:NZDT
DTSTART:20250927T140000
END:DAYLIGHT
BEGIN:STANDARD
TZOFFSETFROM:+1300
TZOFFSETTO:+1200
TZNAME:NZST
DTSTART:20260404T140000
END:STANDARD
BEGIN:DAYLIGHT
TZOFFSETFROM:+1200
TZOFFSETTO:+1300
TZNAME:NZDT
DTSTART:20260926T140000
END:DAYLIGHT
END:VTIMEZONE
BEGIN:VTIMEZONE
TZID:Asia/Singapore
BEGIN:STANDARD
TZOFFSETFROM:+0800
TZOFFSETTO:+0800
TZNAME:+08
DTSTART:20240101T000000
END:STANDARD
END:VTIMEZONE
BEGIN:VEVENT
DTSTART;TZID=Pacific/Auckland:20250511T140000
DTEND;TZID=Pacific/Auckland:20250622T160000
DTSTAMP:20260420T042006
CREATED:20250509T145600Z
LAST-MODIFIED:20250513T040128Z
UID:21598-1746972000-1750608000@victorious-bodhi.org
SUMMARY:《虚空舞妙力》观音·度母唐卡艺术展开幕式
DESCRIPTION:开幕式：5月11日 周日下午2点（奥克兰时间）5月11日 周日上午10点（亚洲时间） \n\n\n\n策展人:Webb’s开幕式嘉宾:LindaTyler唐卡收藏家/鉴赏家/指导顾问噶陀仁珍千宝仁波切 \n\n\n\n协办单位:Padma Ati Buddhist Institute IAffliated with Jeta’s Grove Charitable Trust \n\n\n\n奥克兰展览:2025丰5月11日至6月22日开放时间：每周六，周日下午13:00-17:00其他时间参观：请扫码预约。 \n\n\n\n需提前48小时申请威灵顿展览2025丰7月起预定度母画册或卡印刷品请扫码。 \n\n\n\n呼唤慈母\n\n\n\n音频： \n\n\n\n\n\n\n\n视频：呼唤慈母 \n\n\n\nYoutube：呼唤慈母 \n\n\n\nFaceBook：呼唤慈母 \n\n\n\nEmaho!Tara Tara Tara， \n\n\n\n慈悲的母亲，至诚的祈祷，请赐加持 — 自在宁静的心情。Tara Tara Tara， \n\n\n\n慈悲的母亲，至诚的祈祷，请赐加持 — 丰富知足的财富Tara Tara Tara， \n\n\n\n慈悲的母亲，至诚的祈祷，请赐加持 — 明理通达的智慧。Tara Tara Tara， \n\n\n\n慈悲的母亲，至诚的祈祷，请赐加持 — 自利利生的事业。Tara Tara Tara， \n\n\n\n慈悲的母亲，至诚的祈祷，请赐加持 — 寂静圆满的成果。Tara Tara Tara， \n\n\n\n慈悲的母亲，至诚的祈祷，请赐加持sidhi\, sidhi\, sidhi ！Phala\, phala\, phala.jaiya. jaiya\, jaiya. \n\n\n\n—-仁珍千宝 \n\n\n\n至诚的祈祷！家庭和乐，福寿健康，国泰民安，世界和平。 \n\n\n\n媒体报道： \n\n\n\n\n千年艺术走进长白云之乡：“观音·度母”唐卡艺术展即将登陆奥克兰\n\n\n\n跨越喜马拉雅的信仰之美：全球首个观音·度母唐卡艺术展亮相奥克兰
URL:https://victorious-bodhi.org/event/%e3%80%8a%e8%99%9a%e7%a9%ba%e8%88%9e%e5%a6%99%e5%8a%9b%e3%80%8b%e8%a7%82%e9%9f%b3%c2%b7%e5%ba%a6%e6%af%8d%e5%94%90%e5%8d%a1%e8%89%ba%e6%9c%af%e5%b1%95%e5%bc%80%e5%b9%95%e5%bc%8f/
ATTACH;FMTTYPE=image/jpeg:https://victorious-bodhi.org/wp-content/uploads/2025/05/第三屆佛教供僧暨僧伽聯誼大會（中文）.jpeg
END:VEVENT
BEGIN:VEVENT
DTSTART;TZID=Asia/Singapore:20250601T140000
DTEND;TZID=Asia/Singapore:20250611T200000
DTSTAMP:20260420T042006
CREATED:20250520T131300Z
LAST-MODIFIED:20250607T064449Z
UID:21982-1748786400-1749672000@victorious-bodhi.org
SUMMARY:萨嘎达瓦月法筵
DESCRIPTION:殊胜的巧合～让我们善巧应用，自在的创造无量善业功德！萨嘎月宝上师慈悲开示\n\n\n\n萨嘎月宝上师希望大家在这个殊胜期间，能够选择自己方便的时间，好好受持八关斋戒。我们应当多念诵观音菩萨心咒和金刚薩埵心咒，或者将自己的功课更加精进努力地修持， 即使没有其他特殊功课也无妨。对于正在进行实修、正在修持根本法门的行者而言，不一定需要额外的功课。 \n\n\n\n大家可以在自己目前修持的功课基础上认真精进几天，这也是一种一日闭关或短期闭关的修行方式。关键是要用心专注在法门上面。 \n\n\n\n萨嘎达瓦月 2025 年 5 月 28 日-6 月 25 日 今年的端午节~5 月 31 日（农历 5 月 5 日）\n\n\n\n萨嘎达瓦月略说\n\n\n\n「萨嘎达瓦 Saga Dawa」是藏语「4 月」的意思，佛陀一生中三大殊胜日：降生、成道、涅槃均在此月，称为「萨嘎达瓦月」，此月所修、所作一切善业功德都将不可思议地增长，为一年中最快速累积福德资粮的月分。在此殊胜功德月中广修供养、忏悔业障、戒杀护生、请转法轮、诵经修法、护持正法住世等诸种法行，日日皆是「亿倍」增长功德。目前学会倡导正作、将作的善业，如学会的擦擦禅、6 月 14/15 日的莲师十万荟供、各自不断的修持等，都为应时善业亿倍增长的法行，欢迎ㄧ起共襄盛举。 \n\n\n\n略说端午节\n\n\n\n端午节为华人的节日，定于每年农历五月初五，是一年之中阳气最旺，同时也是夏季送离五瘟神、驱除瘟疫、五毒的日子，要注意端午节禁忌、避免招厄运，更要把握当天黄金时段的开运时机（如宝师指示的善巧修持）。 \n\n\n\n端午节习俗活动\n\n\n\n\n挂艾草：民间习惯在门上挂上艾草、菖蒲等香草，称为「悬蒲艾」，并搭配蒜头、香茅、石榴花等植物，合称「天中五瑞」，具有驱邪避煞的功效。\n\n\n\n雄黄酒：传统上端午节会饮用雄黄酒，被视为江浙地区「五黄」之一。古人认为雄黄具有解毒防疫功能，但因含有致癌物质，现今多改以黄酒替代。\n\n\n\n划龙舟：这项传统活动不仅是为纪念屈原，更是古代越族祭神仪式的延续。龙舟竞渡象征送走灾邪，追求速度也代表驱邪求吉的愿望。\n\n\n\n立蛋：在端午节正午时分，可尝试立蛋或钱币，民间相传： 若能成功，将能吸取天地阳气，带来整年好运。\n\n\n\n\n端午开运善业佛子行\n\n\n\n如宝上师前已说及～此节气分野之际，《时轮金刚续》云:「外世界日、月、星辰的流转及内一切气脉明点的迁移和合为缘起， 此时依善缘和合的法行，功德增长及因缘转变具大威力。」是故，诸善缘者能于午时(11:00-13:00)沐浴盥洗、熏香除秽后，多多念诵时轮金刚咒「嗡阿吽火 哈恰 玛拉哇日阿央 梭哈」、嗡阿吽三字金刚咒或六道金刚咒（阿阿夏沙玛哈）等，为消除负面磁场、祈求平安健康、助益智慧增长等，更值萨嘎达瓦月功德亿遍增长， 功德无量、无量功德！善哉！善哉！ \n\n\n\n2025年6月1日观音度母唐卡展导览+问答 JUNE纽西兰时间：下午14:00地点：L9\,10 Lorne St\,Auckland \n\n\n\n2025年6月5日莲师荟供日纽西兰时间:晚上20:00地点:阿谛学院 \n\n\n\n6月7日新西兰时间早上5点开始，一天四座。第一座5am第二座9am第三座5pm第四座8pm第一天的第一座在学院受戒，之后的三坐可根据自己情况参加。 \n\n\n\n6月8日第二日早上，可以选择重新受戒，参加两个一天一夜的斋戒。也可根据情沉进行2天2夜的斋戒，于6月9日日出前圆满。地点:阿谛学院2025年6月11日礼赞释尊与十八罗汉法会纽西兰时间：晚上20点 地点：阿谛学院线上直播：8686789868密码：334134  \n\n\n\n其他地区：我们会在新西兰时间早上5点(亚洲时间凌晨1点)直播受戒，并于北京时间4am)将zoom回放在群里公饰。大家可以根据当地日出时间，在日出之前完成受戒。 \n\n\n\n线上直播:8686789868密码:334134 \n\n\n\n学院地址：122 WheturangiRd，Greenlane，Auckland，NZ电子邮件Email：info@atiorg.com电话Phone/What’sApp：+(64)211010851;+(64)212163216;+(64)211385113;Wechat：j7788990;BrightSophie; lijiao_gsdx
URL:https://victorious-bodhi.org/event/%e8%90%a8%e5%98%8e%e8%be%be%e7%93%a6%e6%9c%88%e6%b3%95%e7%ad%b5/
ATTACH;FMTTYPE=image/jpeg:https://victorious-bodhi.org/wp-content/uploads/2025/05/569d038d-d50f-4d2e-aec9-49defb7567de.jpeg
END:VEVENT
BEGIN:VEVENT
DTSTART;TZID=Asia/Singapore:20250611T160000
DTEND;TZID=Asia/Singapore:20250611T180000
DTSTAMP:20260420T042006
CREATED:20250520T120628Z
LAST-MODIFIED:20250520T120631Z
UID:22004-1749657600-1749664800@victorious-bodhi.org
SUMMARY:礼赞释尊与十八罗汉法会
DESCRIPTION:礼赞释尊与十八罗汉法会Ceremony of Offerings to the Buddha and the Eighteen Arhats \n\n\n\n主法上师：噶陀仁珍千宝仁波切 贝玛阿谛佛学院院长Presiding Master： Kathog Rigzin Chenpo Rinpoche  \n\n\n\n萨嘎达瓦月法筵日期Date：2025年6月11日纽西兰时间20点；亚洲时间16点；太平洋时间凌晨1点 \n\n\n\n地点：122Wheturangi Rd，Greenlane具信者均可参加直播Zoom：8686789868；密码：334134大家可以扫码填写回红单 \n\n\n\n电子邮件Email：info@atiorg.com电话 Phone/What’sApp：+(64)211010851；+(64)212163216；+(64)211385113Wechat：j7788990；BrightSophie；lijiao_gsdx
URL:https://victorious-bodhi.org/event/%e7%a4%bc%e8%b5%9e%e9%87%8a%e5%b0%8a%e4%b8%8e%e5%8d%81%e5%85%ab%e7%bd%97%e6%b1%89%e6%b3%95%e4%bc%9a/
ATTACH;FMTTYPE=image/jpeg:https://victorious-bodhi.org/wp-content/uploads/2025/05/6月11日.jpg
END:VEVENT
BEGIN:VEVENT
DTSTART;TZID=Asia/Singapore:20250611T180000
DTEND;TZID=Asia/Singapore:20250611T200000
DTSTAMP:20260420T042006
CREATED:20250610T132300Z
LAST-MODIFIED:20250610T112904Z
UID:23989-1749664800-1749672000@victorious-bodhi.org
SUMMARY:大圆满耳传金刚桥第二期实修班：口传及皈依
DESCRIPTION:我们学了很多法门，什么法门是最殊胜的呢?在你关键的时候能想起来的法门是最殊胜的;你起烦恼的时候可以对治烦恼的法门是最殊胜的，其它的法门就是结善缘、种善根。我们现在学习的方式有各种各样，但金刚桥的法门一定是给重视实修的人学习的。 \n\n\n\n大圆满耳传金刚桥口传及皈依Vajra Bridge of the Great Perfection (Oral Transmission&Take refuge) \n\n\n\n第二期实修班即将开班2025年6月11日院长仁珍千宝仁波切口传、授皈依 \n\n\n\n时间：新西兰时间晚22点亚洲时间18点美西时间凌晨3点 \n\n\n\n扫码报名参加。
URL:https://victorious-bodhi.org/event/%e5%a4%a7%e5%9c%86%e6%bb%a1%e8%80%b3%e4%bc%a0%e9%87%91%e5%88%9a%e6%a1%a5%e7%ac%ac%e4%ba%8c%e6%9c%9f%e5%ae%9e%e4%bf%ae%e7%8f%ad%ef%bc%9a%e5%8f%a3%e4%bc%a0%e5%8f%8a%e7%9a%88%e4%be%9d/
ATTACH;FMTTYPE=image/jpeg:https://victorious-bodhi.org/wp-content/uploads/2025/06/截屏2025-06-10-19.27.45.jpg
END:VEVENT
END:VCALENDAR