BEGIN:VCALENDAR
VERSION:2.0
PRODID:-//勝覺網 - ECPv6.15.17.1//NONSGML v1.0//EN
CALSCALE:GREGORIAN
METHOD:PUBLISH
X-WR-CALNAME:勝覺網
X-ORIGINAL-URL:https://victorious-bodhi.org
X-WR-CALDESC:勝覺網的活动
REFRESH-INTERVAL;VALUE=DURATION:PT1H
X-Robots-Tag:noindex
X-PUBLISHED-TTL:PT1H
BEGIN:VTIMEZONE
TZID:Asia/Singapore
BEGIN:STANDARD
TZOFFSETFROM:+0800
TZOFFSETTO:+0800
TZNAME:+08
DTSTART:20240101T000000
END:STANDARD
END:VTIMEZONE
BEGIN:VEVENT
DTSTART;TZID=Asia/Singapore:20250624T160000
DTEND;TZID=Asia/Singapore:20250625T190000
DTSTAMP:20260420T025153
CREATED:20250618T023200Z
LAST-MODIFIED:20250619T134312Z
UID:24063-1750780800-1750878000@victorious-bodhi.org
SUMMARY:莲师上师密集灌顶法会
DESCRIPTION:莲师上师密集灌顶法会\n\n\n\n2025年6月24日（前行灌顶）2025年6月25日（正行灌顶）新西兰时间20点；亚洲时间16点；太平洋时间凌晨1点。 \n\n\n\n地点: 贝玛阿谛佛学院参加方式: 现场参加 \n\n\n\n宝上师慈悲允诺安排灌顶前开示直播Zoom： 868 6789 868密码：334134 \n\n\n\n千载难逢的殊胜法缘！\n\n\n\n由噶陀仁珍传承法主仁珍千宝仁波切亲自传授《上师密集》大灌顶，这是莲师报身相修持法中最为殊胜的教法。 \n\n\n\n法门殊胜\n\n\n\n瑜伽之王，所有上师瑜伽法内最根本者气脉明点总合修持，博大精深 \n\n\n\n重要提醒\n\n\n\n需圆满第一天前行方可参加第二天正行 \n\n\n\n参加资格\n\n\n\n已皈依佛门弟子这是在新西兰极为难得的传法机会，诚邀具缘弟子把握此殊胜因缘！
URL:https://victorious-bodhi.org/event/%e8%8e%b2%e5%b8%88%e4%b8%8a%e5%b8%88%e5%af%86%e9%9b%86%e7%81%8c%e9%a1%b6%e6%b3%95%e4%bc%9a/
ATTACH;FMTTYPE=image/jpeg:https://victorious-bodhi.org/wp-content/uploads/2025/06/截屏2025-06-17-22.49.24.jpg
END:VEVENT
END:VCALENDAR