BEGIN:VCALENDAR
VERSION:2.0
PRODID:-//勝覺網 - ECPv6.15.17.1//NONSGML v1.0//EN
CALSCALE:GREGORIAN
METHOD:PUBLISH
X-ORIGINAL-URL:https://victorious-bodhi.org
X-WR-CALDESC:勝覺網的活动
REFRESH-INTERVAL;VALUE=DURATION:PT1H
X-Robots-Tag:noindex
X-PUBLISHED-TTL:PT1H
BEGIN:VTIMEZONE
TZID:Asia/Singapore
BEGIN:STANDARD
TZOFFSETFROM:+0800
TZOFFSETTO:+0800
TZNAME:+08
DTSTART:20240101T000000
END:STANDARD
END:VTIMEZONE
BEGIN:VEVENT
DTSTART;TZID=Asia/Singapore:20250819T080000
DTEND;TZID=Asia/Singapore:20250819T110000
DTSTAMP:20260421T205516
CREATED:20250814T070309Z
LAST-MODIFIED:20250814T070311Z
UID:26423-1755590400-1755601200@victorious-bodhi.org
SUMMARY:北美空行母日荟供·慧幢法师
DESCRIPTION:慧幢法师在 Zoom 上指导在线修持北美空行母日荟供PST 时间：2025年8月18日 星期一 5:00 PM中国时间：2025年8月19日 星期二 8:00 AM加入 Zoom 会议https://us06web.zoom.us/j/85380050548?pwd=QdufoJM7Oynb2cPRPUBLRidevXYCC8.1 \n\n\n\nZoom ID：853 8005 0548密码：463157
URL:https://victorious-bodhi.org/event/%e5%8c%97%e7%be%8e%e7%a9%ba%e8%a1%8c%e6%af%8d%e6%97%a5%e8%8d%9f%e4%be%9b%c2%b7%e6%85%a7%e5%b9%a2%e6%b3%95%e5%b8%88/
ATTACH;FMTTYPE=image/png:https://victorious-bodhi.org/wp-content/uploads/2024/12/慧幢法师.png
END:VEVENT
END:VCALENDAR