BEGIN:VCALENDAR
VERSION:2.0
PRODID:-//勝覺網 - ECPv6.15.17.1//NONSGML v1.0//EN
CALSCALE:GREGORIAN
METHOD:PUBLISH
X-ORIGINAL-URL:https://victorious-bodhi.org
X-WR-CALDESC:勝覺網的活动
REFRESH-INTERVAL;VALUE=DURATION:PT1H
X-Robots-Tag:noindex
X-PUBLISHED-TTL:PT1H
BEGIN:VTIMEZONE
TZID:Asia/Singapore
BEGIN:STANDARD
TZOFFSETFROM:+0800
TZOFFSETTO:+0800
TZNAME:+08
DTSTART:20240101T000000
END:STANDARD
END:VTIMEZONE
BEGIN:VEVENT
DTSTART;TZID=Asia/Singapore:20250912T140000
DTEND;TZID=Asia/Singapore:20250915T210000
DTSTAMP:20260421T205540
CREATED:20250731T080700Z
LAST-MODIFIED:20250914T002024Z
UID:25460-1757685600-1757970000@victorious-bodhi.org
SUMMARY:宝上师2025年9月星马之法筵·马来西亚
DESCRIPTION:主法上师：宝上师仁珍千宝\n\n\n\n9/12日\n\n\n\n1. 下午2:00-4:00 愤怒莲师实修与略说\n\n\n\n多杰卓洛（怖畏莲师）法门简介 \n\n\n\n2. 晚上7点起 摩利支天灌顶+金刚萨埵灌顶\n\n\n\n\n地点：新山莲花胜王禅苑（Persatuan Penganut Agama Buddha Padma Rama Johor Bahru）\n\n\n\nAddress: No.1 Jalan Putra Jaya 5/68\, Bandar Putra Jaya\, 81100 Johor Bahru \, Johor \n\n\n\nContact No.: +60127273837 +60127903522\n\n\n\nContact line ID: e0983594796\n\n\n\n\n摩利支天佛母法诞 \n\n\n\n金刚萨埵超渡法会前法语 \n\n\n\n9/13日\n\n\n\n1. 早上10点《准提佛母》灌顶与讲解、渡亡或烟供（见海报）\n\n\n\n\n地点：噶举佛学会\n\n\n\nAddress: No. 13\, Jalan Hang Tuah 4/2\, Taman Muhibbah\, Care Line 86000 Kluang\, Johor\, Malaysia.（居学友垃花固）\n\n\n\n\n2.  晚上7点起《作明佛母》灌顶与实修略说\n\n\n\n\n地点：新山莲花胜王禅苑（Persatuan Penganut Agama Buddha Padma Rama Johor Bahru）\n\n\n\nAddress: No.1 Jalan Putra Jaya 5/68\, Bandar Putra Jaya\, 81100 Johor Bahru \, Johor \n\n\n\n\n作明佛母大成就者朗加仁波切 \n\n\n\n与会者：需曾受过无上密续灌顶\n\n\n\n9/14日（星期日）\n\n\n\n1. 早上9点，王劲踊/生命道场 不动佛实修、烟供、放生，及佛化人生讲座与问答\n\n\n\n\n地点：哥答丁尼（地址见个别海报）\n\n\n\n\n法门介绍：不动佛 \n\n\n\n2. 晚上6:30~8:30《观音》修持与渡亡（超荐）\n\n\n\n\n地点：边佳兰佛教会（Persatuan Buddhist Pengerang）\n\n\n\nAddress: 221 Jalan Kurau Dua\, Sungai Rengit\, 81620 Pengerang\, Johor\, West Malaysia.\n\n\n\nContact No.: +60137235294/+6012-7903522\n\n\n\n\n9/15日（星期一）\n\n\n\n1. 早上10点起 众荟主玛哈嘎拉实修与供养\n\n\n\n仁珍传承—众荟主玛哈嘎拉 \n\n\n\n2. 晚上7:00起 阿弥陀佛实修与超渡\n\n\n\n\n地点：新山莲花胜王禅苑（Persatuan Penganut Agama Buddha Padma Rama Johor Bahru）\n\n\n\nAddress: No.1 Jalan Putra Jaya 5/68\, Bandar Putra Jaya\, 81100 Johor Bahru \, Johor \n\n\n\n\n阿弥陀佛超渡前法语
URL:https://victorious-bodhi.org/event/%e5%ae%9d%e4%b8%8a%e5%b8%882025%e5%b9%b49%e6%9c%88%e6%98%9f%e9%a9%ac%e4%b9%8b%e6%b3%95%e7%ad%b5%c2%b7%e9%a9%ac%e6%9d%a5%e8%a5%bf%e4%ba%9a/
ATTACH;FMTTYPE=image/jpeg:https://victorious-bodhi.org/wp-content/uploads/2025/07/截屏2025-07-31-18.09.16.jpg
END:VEVENT
END:VCALENDAR