BEGIN:VCALENDAR
VERSION:2.0
PRODID:-//勝覺網 - ECPv6.15.17.1//NONSGML v1.0//EN
CALSCALE:GREGORIAN
METHOD:PUBLISH
X-ORIGINAL-URL:https://victorious-bodhi.org
X-WR-CALDESC:勝覺網的活动
REFRESH-INTERVAL;VALUE=DURATION:PT1H
X-Robots-Tag:noindex
X-PUBLISHED-TTL:PT1H
BEGIN:VTIMEZONE
TZID:Asia/Singapore
BEGIN:STANDARD
TZOFFSETFROM:+0800
TZOFFSETTO:+0800
TZNAME:+08
DTSTART:20240101T000000
END:STANDARD
END:VTIMEZONE
BEGIN:VEVENT
DTSTART;TZID=Asia/Singapore:20250920T140000
DTEND;TZID=Asia/Singapore:20250920T170000
DTSTAMP:20260421T205540
CREATED:20250731T095524Z
LAST-MODIFIED:20250919T022030Z
UID:25465-1758376800-1758387600@victorious-bodhi.org
SUMMARY:宝上师2025年9月星马之法筵·大悲观音实修、超渡与大烟供
DESCRIPTION:主法上师：宝上师仁珍千宝\n\n\n\n9月20日新增法筵於新加坡萬佛林大殿～\n\n\n\n1、早上10:00 蓮師、金剛薩埵裝臟及開光，若有殊勝物、珍寶等歡迎共襄盛舉一起供養裝臟。2、下午2點起眾薈主瑪哈嘎拉灌頂暨大悲觀音超薦 \n\n\n\n宝师开示：大悲观音超渡前法语 \n\n\n\n說明：1、欲為眾獻供曼達者，洽紀師姐，line ID: e09835947962、可填寫消災除障紅單、超薦歷代祖先或亡者或累劫冤親債主之黃單。
URL:https://victorious-bodhi.org/event/%e5%ae%9d%e4%b8%8a%e5%b8%882025%e5%b9%b49%e6%9c%88%e6%98%9f%e9%a9%ac%e4%b9%8b%e6%b3%95%e7%ad%b5%c2%b7%e5%a4%a7%e6%82%b2%e8%a7%82%e9%9f%b3%e5%ae%9e%e4%bf%ae%e3%80%81%e8%b6%85%e6%b8%a1%e5%a4%a7%e7%83%9f/
ATTACH;FMTTYPE=image/jpeg:https://victorious-bodhi.org/wp-content/uploads/2025/07/截屏2025-07-31-18.10.45.jpg
END:VEVENT
END:VCALENDAR