BEGIN:VCALENDAR
VERSION:2.0
PRODID:-//勝覺網 - ECPv6.15.17.1//NONSGML v1.0//EN
CALSCALE:GREGORIAN
METHOD:PUBLISH
X-ORIGINAL-URL:https://victorious-bodhi.org
X-WR-CALDESC:勝覺網的活动
REFRESH-INTERVAL;VALUE=DURATION:PT1H
X-Robots-Tag:noindex
X-PUBLISHED-TTL:PT1H
BEGIN:VTIMEZONE
TZID:Asia/Taipei
BEGIN:STANDARD
TZOFFSETFROM:+0800
TZOFFSETTO:+0800
TZNAME:CST
DTSTART:20240101T000000
END:STANDARD
END:VTIMEZONE
BEGIN:VTIMEZONE
TZID:Asia/Singapore
BEGIN:STANDARD
TZOFFSETFROM:+0800
TZOFFSETTO:+0800
TZNAME:+08
DTSTART:20240101T000000
END:STANDARD
END:VTIMEZONE
BEGIN:VEVENT
DTSTART;TZID=Asia/Taipei:20250101T150000
DTEND;TZID=Asia/Taipei:20250102T170000
DTSTAMP:20260424T003857
CREATED:20241227T004412Z
LAST-MODIFIED:20241230T003332Z
UID:11285-1735743600-1735837200@victorious-bodhi.org
SUMMARY:大圆满耳传金刚桥: 轮回过患实修引领
DESCRIPTION:上课老师：慧光堪布Teacher：Khenpo Huiguang \n\n\n\n大圓滿耳傳金剛橋: 轮回过患实修引领、皈依的讲解 \n\n\n\nVajra Bridge of the Great Perfection (Guidance in practical cultivationregarding the sufferings of samsara\, An explanation of taking refuge) \n\n\n\n日期 2025年1月1、2日(轮回过患/解脱利益实修引领) \n\n\n\n日期 2025年1月6、8、9日(皈依的讲解) \n\n\n\n紐西蘭時間20點；亚洲时间15点；太平洋时间23点(-1天) \n\n\n\n参加要求：得过金刚桥口传的均可参加直播信息 \n\n\n\nZoom:86852490276;密码:334134 \n\n\n\n電子郵件 Email: info@atiorg.com; \n\n\n\n電话 Phone/What’s App: +(64)211010851;+(64)212163216;+(64)211385113; \n\n\n\nWechat:j7788990; BrightSophie; lijiao_gsdx
URL:https://victorious-bodhi.org/event/%e5%a4%a7%e5%9c%86%e6%bb%a1%e8%80%b3%e4%bc%a0%e9%87%91%e5%88%9a%e6%a1%a5-%e8%bd%ae%e5%9b%9e%e8%bf%87%e6%82%a3%e5%ae%9e%e4%bf%ae%e5%bc%95%e9%a2%86/
ATTACH;FMTTYPE=image/jpeg:https://victorious-bodhi.org/wp-content/uploads/2024/12/微信图片_20241227082919-1.jpg
END:VEVENT
BEGIN:VEVENT
DTSTART;TZID=Asia/Singapore:20250103T140000
DTEND;TZID=Asia/Singapore:20250103T200000
DTSTAMP:20260424T003857
CREATED:20241224T021534Z
LAST-MODIFIED:20241230T003441Z
UID:11071-1735912800-1735934400@victorious-bodhi.org
SUMMARY:元月3日 （星期五）马头明王回遮除障法会
DESCRIPTION:1、元月3日 （星期五）馬頭明王迴遮除障法會時間：下午2:00-4:00/晚上6:00-8:00地點：板橋悲智力佛學會說明：歡迎隨喜填寫消災除障紅單碌位
URL:https://victorious-bodhi.org/event/%e5%85%83%e6%9c%883%e6%97%a5-%ef%bc%88%e6%98%9f%e6%9c%9f%e4%ba%94%ef%bc%89%e9%a9%ac%e5%a4%b4%e6%98%8e%e7%8e%8b%e5%9b%9e%e9%81%ae%e9%99%a4%e9%9a%9c%e6%b3%95%e4%bc%9a/
END:VEVENT
BEGIN:VEVENT
DTSTART;TZID=Asia/Singapore:20250104T100000
DTEND;TZID=Asia/Singapore:20250104T160000
DTSTAMP:20260424T003857
CREATED:20241224T021807Z
LAST-MODIFIED:20241230T003456Z
UID:11075-1735984800-1736006400@victorious-bodhi.org
SUMMARY:元月4日 多杰卓洛实修与回遮
DESCRIPTION:元月4日 多傑卓洛實修與迴遮早上10:00-12:00/下午2:00-4:00地點：基隆蓮嚴佛學會 基隆市愛一路75-3號4樓 02-2428-3219說明：歡迎隨喜填寫消災除障填入紅單表單：https://forms.gle/enuEoxDZywRBCcfN9
URL:https://victorious-bodhi.org/event/%e5%85%83%e6%9c%884%e6%97%a5-%e5%a4%9a%e6%9d%b0%e5%8d%93%e6%b4%9b%e5%ae%9e%e4%bf%ae%e4%b8%8e%e5%9b%9e%e9%81%ae/
END:VEVENT
BEGIN:VEVENT
DTSTART;TZID=Asia/Singapore:20250105T093000
DTEND;TZID=Asia/Singapore:20250105T170000
DTSTAMP:20260424T003857
CREATED:20241124T014732Z
LAST-MODIFIED:20241230T003513Z
UID:8010-1736069400-1736096400@victorious-bodhi.org
SUMMARY:元月5日 准提佛母灌顶法会
DESCRIPTION:2025年01月05日(日) \n\n\n\n\n上午10:00~12∶00不动佛灌]页〈中午备有素斋》\n\n\n\n下午13:00~14:00现场挥毫春晞赠送\n\n\n\n下午14:00~17:30度母灌顶/准提佛母灌顶\n\n\n\n\n法会地点：大林文魁宫(谷歌地图搜寻:举人厝文魁宫) \n\n\n\n主办单位：大林宏德道场 \n\n\n\n联 络 人：林 师 兄 0973-077-282 \n\n\n\n嘉义大林宏德道场
URL:https://victorious-bodhi.org/event/%e5%85%83%e6%9c%885%e6%97%a5-%e5%87%86%e6%8f%90%e4%bd%9b%e6%af%8d%e7%81%8c%e9%a1%b6%e6%b3%95%e4%bc%9a/
ATTACH;FMTTYPE=image/jpeg:https://victorious-bodhi.org/wp-content/uploads/2024/11/2025年01月05日日.jpg
END:VEVENT
BEGIN:VEVENT
DTSTART;TZID=Asia/Singapore:20250106T150000
DTEND;TZID=Asia/Singapore:20250106T170000
DTSTAMP:20260424T003857
CREATED:20241227T004746Z
LAST-MODIFIED:20241230T005814Z
UID:11293-1736175600-1736182800@victorious-bodhi.org
SUMMARY:元月6日 大圆满耳传金刚桥：皈依的讲解
DESCRIPTION:上课老师:慧光堪布Teacher: Khenpo Huiguang \n\n\n\n大圓滿耳傳金剛橋: 轮回过患实修引领、皈依的讲解 \n\n\n\nVajra Bridge of the Great Perfection (Guidance in practical cultivationregarding the sufferings of samsara\, An explanation of taking refuge \n\n\n\n日期 2025年1月6(皈依的讲解) \n\n\n\n紐西蘭時間20點;亚洲时间15点;太平洋时间23点(-1天) \n\n\n\n参加要求:得过金刚桥口传的均可参加直播信息Zoom:86852490276;密码:334134 \n\n\n\n電子郵件 Email: info@atiorg.com; \n\n\n\n電话 Phone/What’s App: +(64)211010851;+(64)212163216;+(64)211385113; \n\n\n\nWechat:j7788990; BrightSophie; lijiao_gsdx
URL:https://victorious-bodhi.org/event/%e5%a4%a7%e5%9c%86%e6%bb%a1%e8%80%b3%e4%bc%a0%e9%87%91%e5%88%9a%e6%a1%a5%ef%bc%9a%e7%9a%88%e4%be%9d%e7%9a%84%e8%ae%b2%e8%a7%a3/
ATTACH;FMTTYPE=image/jpeg:https://victorious-bodhi.org/wp-content/uploads/2024/12/微信图片_20241227082919-1.jpg
END:VEVENT
BEGIN:VEVENT
DTSTART;TZID=Asia/Singapore:20250108T150000
DTEND;TZID=Asia/Singapore:20250109T170000
DTSTAMP:20260424T003857
CREATED:20241230T005804Z
LAST-MODIFIED:20250210T161327Z
UID:11697-1736348400-1736442000@victorious-bodhi.org
SUMMARY:元月8~9日 大圆满耳传金刚桥：皈依的讲解
DESCRIPTION:上课老师:慧光堪布Teacher: Khenpo Huiguang \n\n\n\n大圓滿耳傳金剛橋: 轮回过患实修引领、皈依的讲解 \n\n\n\nVajra Bridge of the Great Perfection (Guidance in practical cultivationregarding the sufferings of samsara\, An explanation of taking refuge \n\n\n\n日期 2025年1月8、9日(皈依的讲解) \n\n\n\n紐西蘭時間20點;亚洲时间15点;太平洋时间23点(-1天) \n\n\n\n参加要求:得过金刚桥口传的均可参加直播信息Zoom:86852490276;密码:334134 \n\n\n\n電子郵件 Email: info@atiorg.com; \n\n\n\n電话 Phone/What’s App: +(64)211010851;+(64)212163216;+(64)211385113; \n\n\n\nWechat:j7788990; BrightSophie; lijiao_gsdx
URL:https://victorious-bodhi.org/event/%e5%85%83%e6%9c%8889%e6%97%a5-%e5%a4%a7%e5%9c%86%e6%bb%a1%e8%80%b3%e4%bc%a0%e9%87%91%e5%88%9a%e6%a1%a5%ef%bc%9a%e7%9a%88%e4%be%9d%e7%9a%84%e8%ae%b2%e8%a7%a3/
ATTACH;FMTTYPE=image/jpeg:https://victorious-bodhi.org/wp-content/uploads/2024/12/微信图片_20241227082919-1.jpg
END:VEVENT
BEGIN:VEVENT
DTSTART;TZID=Asia/Taipei:20250110T190000
DTEND;TZID=Asia/Taipei:20250110T210000
DTSTAMP:20260424T003857
CREATED:20241224T022441Z
LAST-MODIFIED:20241230T003645Z
UID:11081-1736535600-1736542800@victorious-bodhi.org
SUMMARY:元月10日 晚上7点时轮金刚回遮除障法会
DESCRIPTION:元月10日 晚上7點時輪金剛迴遮除障法會地點：大里華嚴精舍說明：歡迎隨喜填寫消災除障紅單（填入紅單表單：https://forms.gle/enuEoxDZywRBCcfN9
URL:https://victorious-bodhi.org/event/%e5%85%83%e6%9c%8810%e6%97%a5-%e6%99%9a%e4%b8%8a7%e7%82%b9%e6%97%b6%e8%bd%ae%e9%87%91%e5%88%9a%e5%9b%9e%e9%81%ae%e9%99%a4%e9%9a%9c%e6%b3%95%e4%bc%9a/
END:VEVENT
BEGIN:VEVENT
DTSTART;TZID=Asia/Taipei:20250111T100000
DTEND;TZID=Asia/Taipei:20250111T170000
DTSTAMP:20260424T003857
CREATED:20241224T022909Z
LAST-MODIFIED:20241230T003702Z
UID:11086-1736589600-1736614800@victorious-bodhi.org
SUMMARY:元月11日 了义普巴金刚回遮
DESCRIPTION:元月11日早上10點-12點/下午2:00-4:00了義普巴金剛迴遮地點：妙乘法苑說明：歡迎隨喜填寫消災除障紅單下午4:30 會員大會暨年度度母光明燈申請，能先填寫入表單：https://forms.gle/enuEoxDZywRBCcfN9然以現場登記者優先。
URL:https://victorious-bodhi.org/event/%e5%85%83%e6%9c%8811%e6%97%a5-%e4%ba%86%e4%b9%89%e6%99%ae%e5%b7%b4%e9%87%91%e5%88%9a%e5%9b%9e%e9%81%ae/
END:VEVENT
BEGIN:VEVENT
DTSTART;TZID=Asia/Singapore:20250128T100000
DTEND;TZID=Asia/Singapore:20250128T170000
DTSTAMP:20260424T003857
CREATED:20241224T023106Z
LAST-MODIFIED:20241230T003752Z
UID:11090-1738058400-1738083600@victorious-bodhi.org
SUMMARY:元月28日 狮面空行母灌顶；狮面空行母回遮
DESCRIPTION:元月28日 早上10:00 獅面空行母灌頂/下午2:00起獅面空行母迴遮地點：妙乘法苑說明：歡迎隨喜填寫消災除障，填入紅單表單：https://forms.gle/enuEoxDZywRBCcfN9
URL:https://victorious-bodhi.org/event/%e5%85%83%e6%9c%8828%e6%97%a5-%e7%8b%ae%e9%9d%a2%e7%a9%ba%e8%a1%8c%e6%af%8d%e7%81%8c%e9%a1%b6%ef%bc%9b%e7%8b%ae%e9%9d%a2%e7%a9%ba%e8%a1%8c%e6%af%8d%e5%9b%9e%e9%81%ae/
END:VEVENT
BEGIN:VEVENT
DTSTART;TZID=Asia/Singapore:20250128T100000
DTEND;TZID=Asia/Singapore:20250202T170000
DTSTAMP:20260424T003857
CREATED:20250117T170836Z
LAST-MODIFIED:20250131T102444Z
UID:17229-1738058400-1738515600@victorious-bodhi.org
SUMMARY:宝上师仁珍千宝近期在台法筵分享！
DESCRIPTION:☸️元月28日狮面空行母早上10:00 狮面空行母灌顶/下午2:00起狮面空行母回遮地点：妙乘法苑说明：欢迎随喜填写消灾除障，填入红单表单：https://forms.gle/enuEoxDZywRBCcfN9 \n\n\n\n☸️元月29日（年初一）早上5:30轮涅火供（8点内部荟供）????10点 黄财神水供及烟供、护法供⛩️地点：妙乘法苑说明：欢迎随喜填写消灾除障红单（表单链结）????zoom 全球直播、各地准备齐作水供Zoom ID：8604567750/密码：334134 \n\n\n\n☸️元月30日（年初二）1、早上10点 黄财神水供、烟供、护法供????地点：大里华严精舍说明：欢迎随喜填写消灾除障红单～表单链结 \n\n\n\n☸️2月1日 （初四）度母转运、挂风马及烟供????️地点：苗栗慧天禅苑集合时间、地点：早上8:30 神冈妙乘法苑早上9:30 苗栗 大湖国中正门口早上10:00 苗栗 慧天禅苑～链结说明：欢迎认供风马旗～表单链结风马旗（每小串200台币）、火供粉（每包250台币），认供表单：https://forms.gle/5EVx59pnZY4voedt5 \n\n\n\n????［新增］2月2日早上10点，施身法灌顶（曾受过无上密续灌顶者）下午2点起施身法略说、实修与荟供地点：智光禅林东势闭关中心台中市东势区东兰路石排巷 31-2 号 \n\n\n\n☸️2月8日 下午2 财宝天王火供⛩️地点：妙乘法苑说明：欢迎认供火供粉、随喜填写消灾除障红单～
URL:https://victorious-bodhi.org/event/%e5%ae%9d%e4%b8%8a%e5%b8%88%e4%bb%81%e7%8f%8d%e5%8d%83%e5%ae%9d%e8%bf%91%e6%9c%9f%e5%9c%a8%e5%8f%b0%e6%b3%95%e7%ad%b5%e5%88%86%e4%ba%ab%ef%bc%81/
ATTACH;FMTTYPE=image/jpeg:https://victorious-bodhi.org/wp-content/uploads/2025/01/20250128.jpg
END:VEVENT
BEGIN:VEVENT
DTSTART;TZID=Asia/Taipei:20250129T053000
DTEND;TZID=Asia/Taipei:20250129T160000
DTSTAMP:20260424T003857
CREATED:20241224T024655Z
LAST-MODIFIED:20241230T003814Z
UID:11099-1738128600-1738166400@victorious-bodhi.org
SUMMARY:元月29日 黄财神水供及烟供、护法供
DESCRIPTION:☸️元月29日（年初一）早上5:30輪涅火供（8點內部薈供）10點 黃財神水供及煙供、護法供⛩️地點：妙乘法苑說明：歡迎隨喜填寫消災除障紅單（表單鏈結）zoom 全球直播、各地準備齊作水供Zoom ID：8604567750/密碼：334134
URL:https://victorious-bodhi.org/event/%e5%85%83%e6%9c%8829%e6%97%a5-%e9%bb%84%e8%b4%a2%e7%a5%9e%e6%b0%b4%e4%be%9b%e5%8f%8a%e7%83%9f%e4%be%9b%e3%80%81%e6%8a%a4%e6%b3%95%e4%be%9b/
END:VEVENT
BEGIN:VEVENT
DTSTART;TZID=Asia/Singapore:20250130T100000
DTEND;TZID=Asia/Singapore:20250130T170000
DTSTAMP:20260424T003857
CREATED:20241224T024801Z
LAST-MODIFIED:20241230T003830Z
UID:11101-1738231200-1738256400@victorious-bodhi.org
SUMMARY:元月30日 黄财神水供、烟供、护法供
DESCRIPTION:☸️元月30日（年初二）1、早上10點 黃財神水供、煙供、護法供地點：大里華嚴精舍說明：歡迎隨喜填寫消災除障紅單～表單鏈結
URL:https://victorious-bodhi.org/event/%e5%85%83%e6%9c%8830%e6%97%a5-%e9%bb%84%e8%b4%a2%e7%a5%9e%e6%b0%b4%e4%be%9b%e3%80%81%e7%83%9f%e4%be%9b%e3%80%81%e6%8a%a4%e6%b3%95%e4%be%9b/
END:VEVENT
END:VCALENDAR