BEGIN:VCALENDAR
VERSION:2.0
PRODID:-//勝覺網 - ECPv6.15.17.1//NONSGML v1.0//EN
CALSCALE:GREGORIAN
METHOD:PUBLISH
X-WR-CALNAME:勝覺網
X-ORIGINAL-URL:https://victorious-bodhi.org
X-WR-CALDESC:勝覺網的活动
REFRESH-INTERVAL;VALUE=DURATION:PT1H
X-Robots-Tag:noindex
X-PUBLISHED-TTL:PT1H
BEGIN:VTIMEZONE
TZID:Asia/Singapore
BEGIN:STANDARD
TZOFFSETFROM:+0800
TZOFFSETTO:+0800
TZNAME:+08
DTSTART:20240101T000000
END:STANDARD
END:VTIMEZONE
BEGIN:VTIMEZONE
TZID:Asia/Taipei
BEGIN:STANDARD
TZOFFSETFROM:+0800
TZOFFSETTO:+0800
TZNAME:CST
DTSTART:20240101T000000
END:STANDARD
END:VTIMEZONE
BEGIN:VEVENT
DTSTART;TZID=Asia/Singapore:20250128T100000
DTEND;TZID=Asia/Singapore:20250202T170000
DTSTAMP:20260423T230707
CREATED:20250117T170836Z
LAST-MODIFIED:20250131T102444Z
UID:17229-1738058400-1738515600@victorious-bodhi.org
SUMMARY:宝上师仁珍千宝近期在台法筵分享！
DESCRIPTION:☸️元月28日狮面空行母早上10:00 狮面空行母灌顶/下午2:00起狮面空行母回遮地点：妙乘法苑说明：欢迎随喜填写消灾除障，填入红单表单：https://forms.gle/enuEoxDZywRBCcfN9 \n\n\n\n☸️元月29日（年初一）早上5:30轮涅火供（8点内部荟供）????10点 黄财神水供及烟供、护法供⛩️地点：妙乘法苑说明：欢迎随喜填写消灾除障红单（表单链结）????zoom 全球直播、各地准备齐作水供Zoom ID：8604567750/密码：334134 \n\n\n\n☸️元月30日（年初二）1、早上10点 黄财神水供、烟供、护法供????地点：大里华严精舍说明：欢迎随喜填写消灾除障红单～表单链结 \n\n\n\n☸️2月1日 （初四）度母转运、挂风马及烟供????️地点：苗栗慧天禅苑集合时间、地点：早上8:30 神冈妙乘法苑早上9:30 苗栗 大湖国中正门口早上10:00 苗栗 慧天禅苑～链结说明：欢迎认供风马旗～表单链结风马旗（每小串200台币）、火供粉（每包250台币），认供表单：https://forms.gle/5EVx59pnZY4voedt5 \n\n\n\n????［新增］2月2日早上10点，施身法灌顶（曾受过无上密续灌顶者）下午2点起施身法略说、实修与荟供地点：智光禅林东势闭关中心台中市东势区东兰路石排巷 31-2 号 \n\n\n\n☸️2月8日 下午2 财宝天王火供⛩️地点：妙乘法苑说明：欢迎认供火供粉、随喜填写消灾除障红单～
URL:https://victorious-bodhi.org/event/%e5%ae%9d%e4%b8%8a%e5%b8%88%e4%bb%81%e7%8f%8d%e5%8d%83%e5%ae%9d%e8%bf%91%e6%9c%9f%e5%9c%a8%e5%8f%b0%e6%b3%95%e7%ad%b5%e5%88%86%e4%ba%ab%ef%bc%81/
ATTACH;FMTTYPE=image/jpeg:https://victorious-bodhi.org/wp-content/uploads/2025/01/20250128.jpg
END:VEVENT
BEGIN:VEVENT
DTSTART;TZID=Asia/Singapore:20250201T083000
DTEND;TZID=Asia/Singapore:20250201T120000
DTSTAMP:20260423T230707
CREATED:20241224T024959Z
LAST-MODIFIED:20250131T101047Z
UID:11103-1738398600-1738411200@victorious-bodhi.org
SUMMARY:2月1日 （初四）度母转运、挂风马及烟供
DESCRIPTION:☸️2月1日 （初四）度母轉運、掛風馬及煙供地點：苗栗慧天禪苑集合時間、地點：早上8:30 神岡妙乘法苑早上9:30 苗栗 大湖國中正門口早上10:00 苗栗 慧天禪苑～鏈結https://maps.app.goo.gl/Kv9LfxZcY1RrMYpL8?g_st=com.google.maps.preview.copy說明：歡迎認供風馬旗～表單鏈結
URL:https://victorious-bodhi.org/event/2%e6%9c%881%e6%97%a5-%ef%bc%88%e5%88%9d%e5%9b%9b%ef%bc%89%e5%ba%a6%e6%af%8d%e8%bd%ac%e8%bf%90%e3%80%81%e6%8c%82%e9%a3%8e%e9%a9%ac%e5%8f%8a%e7%83%9f%e4%be%9b/
END:VEVENT
BEGIN:VEVENT
DTSTART;TZID=Asia/Singapore:20250207T150000
DTEND;TZID=Asia/Singapore:20250207T170000
DTSTAMP:20260423T230707
CREATED:20250204T173008Z
LAST-MODIFIED:20250210T161039Z
UID:18039-1738940400-1738947600@victorious-bodhi.org
SUMMARY:2月7日下午3点，大悲观音超荐
DESCRIPTION:☸️2月7日下午3点，大悲观音超荐/护法供/灯供 \n\n\n\n⛩️地点：妙乘法苑https://maps.app.goo.gl/6SejyuzKJvsV6Tcy9?g_st=com.google.maps.preview.copy
URL:https://victorious-bodhi.org/event/2%e6%9c%887%e6%97%a5%e4%b8%8b%e5%8d%883%e7%82%b9%ef%bc%8c%e5%a4%a7%e6%82%b2%e8%a7%82%e9%9f%b3%e8%b6%85%e8%8d%90/
ATTACH;FMTTYPE=image/jpeg:https://victorious-bodhi.org/wp-content/uploads/2025/01/20250128.jpg
END:VEVENT
BEGIN:VEVENT
DTSTART;TZID=Asia/Singapore:20250208T140000
DTEND;TZID=Asia/Singapore:20250208T170000
DTSTAMP:20260423T230707
CREATED:20241224T025136Z
LAST-MODIFIED:20250131T102330Z
UID:11105-1739023200-1739034000@victorious-bodhi.org
SUMMARY:2月8日 下午2 财宝天王火供
DESCRIPTION:☸️2月8日 下午2 財寶天王火供地點：妙乘法苑說明：歡迎認供火供粉、隨喜填寫消災除障紅單～表單鏈結！
URL:https://victorious-bodhi.org/event/2%e6%9c%888%e6%97%a5-%e4%b8%8b%e5%8d%882-%e8%b4%a2%e5%ae%9d%e5%a4%a9%e7%8e%8b%e7%81%ab%e4%be%9b/
ATTACH;FMTTYPE=image/jpeg:https://victorious-bodhi.org/wp-content/uploads/2024/12/467119150_1107413130843848_77831.jpg
END:VEVENT
BEGIN:VEVENT
DTSTART;TZID=Asia/Singapore:20250209T093000
DTEND;TZID=Asia/Singapore:20250209T170000
DTSTAMP:20260423T230707
CREATED:20250125T101003Z
LAST-MODIFIED:20250210T160937Z
UID:17749-1739093400-1739120400@victorious-bodhi.org
SUMMARY:2月9日星期日仁珍千宝仁波切讲解准提法门
DESCRIPTION:灌顶、口传、讲解，缺一不可，曾领受准提灌顶的法友，可把握2/9的实修导引： \n\n\n\n早上9:30或10:00  准提法门实修导引、共修 \n\n\n\n1、限曾受过此法门灌顶者。 \n\n\n\n2、请自备铃杵 \n\n\n\n3、请携带大林灌顶时所发仪轨 \n\n\n\n下午2:30大圆满金刚桥入门实修导引与问答 \n\n\n\n1、为初入门者的实修引导 \n\n\n\n2、请自备法本，特别是第四册，没有的话可现场请供！ \n\n\n\n地点：妙乘法苑台中市神冈区神清路322号
URL:https://victorious-bodhi.org/event/2%e6%9c%889%e6%97%a5-%e6%ba%96%e6%8f%90%e6%b3%95%e9%96%80%e5%af%a6%e4%bf%ae%e5%b0%8e%e5%bc%95%e3%80%81%e5%85%b1%e4%bf%ae/
ATTACH;FMTTYPE=image/jpeg:https://victorious-bodhi.org/wp-content/uploads/2025/01/20250128.jpg
END:VEVENT
BEGIN:VEVENT
DTSTART;TZID=Asia/Singapore:20250215T100000
DTEND;TZID=Asia/Singapore:20250215T120000
DTSTAMP:20260423T230707
CREATED:20250214T071134Z
LAST-MODIFIED:20250219T072312Z
UID:18583-1739613600-1739620800@victorious-bodhi.org
SUMMARY:2月15日 佛学院结业典礼活动
DESCRIPTION:佛学院法讯通知 \n\n\n\n亲爱的同修们，诚挚邀请大家参与即将举行的佛学院法务活动，共同感受法喜充满的殊胜时刻： \n\n\n\n时间：2月15日（周六）纽西兰时间下午3点、亚洲时间上午10点 —— 结业典礼适逢祖师龙钦巴圆寂的殊胜日，让我们共聚一堂，见证这圆满时刻。感恩同行，共创光明吉祥的法缘！ \n\n\n\n地点：佛学院（现场参加）线上参与（欢迎各地学员一同参加）：Zoom ID：860 456 7750Password：334134 \n\n\n\n诚挚邀请大家共沾法喜，随喜参与！
URL:https://victorious-bodhi.org/event/2%e6%9c%8815%e6%97%a5-%e4%bd%9b%e5%ad%a6%e9%99%a2%e7%bb%93%e4%b8%9a%e5%85%b8%e7%a4%bc%e6%b4%bb%e5%8a%a8/
ATTACH;FMTTYPE=image/jpeg:https://victorious-bodhi.org/wp-content/uploads/2024/11/avatars-5ra3GEyJ2mhViiTv-R8HQXQ.jpg
END:VEVENT
BEGIN:VEVENT
DTSTART;TZID=Asia/Singapore:20250222T190000
DTEND;TZID=Asia/Singapore:20250222T210000
DTSTAMP:20260423T230707
CREATED:20250222T020047Z
LAST-MODIFIED:20250222T020050Z
UID:18797-1740250800-1740258000@victorious-bodhi.org
SUMMARY:空行母薈供日（第1場）
DESCRIPTION:空行母薈供日亞洲時間: 2025年2月22日星期六 晚上7點 \n\n\n\n加入Zoom會議https://us06web.zoom.us/j/88479148260?pwd=P6EbXcnZP9Dsa7aRTpeU0N8BU1R9GX.1 \n\n\n\n會議ID: 884 7914 8260密碼: 571575
URL:https://victorious-bodhi.org/event/%e7%a9%ba%e8%a1%8c%e6%af%8d%e8%96%88%e4%be%9b%e6%97%a5%ef%bc%88%e7%ac%ac1%e5%a0%b4%ef%bc%89/
END:VEVENT
BEGIN:VEVENT
DTSTART;TZID=Asia/Singapore:20250223T080000
DTEND;TZID=Asia/Singapore:20250223T110000
DTSTAMP:20260423T230707
CREATED:20250222T020310Z
LAST-MODIFIED:20250222T020330Z
UID:18799-1740297600-1740308400@victorious-bodhi.org
SUMMARY:空行母薈供日（第2場）
DESCRIPTION:空行母薈供日亞洲時間：2025年2月23日星期日 早上 8點 \n\n\n\n加入Zoom會議https://us06web.zoom.us/j/88479148260?pwd=P6EbXcnZP9Dsa7aRTpeU0N8BU1R9GX.1 \n\n\n\n會議ID: 884 7914 8260密碼: 571575
URL:https://victorious-bodhi.org/event/%e7%a9%ba%e8%a1%8c%e6%af%8d%e8%96%88%e4%be%9b%e6%97%a5%ef%bc%88%e7%ac%ac2%e5%a0%b4%ef%bc%89/
END:VEVENT
BEGIN:VEVENT
DTSTART;TZID=Asia/Singapore:20250228T060000
DTEND;TZID=Asia/Singapore:20250228T080000
DTSTAMP:20260423T230707
CREATED:20250227T121510Z
LAST-MODIFIED:20250227T133428Z
UID:18894-1740722400-1740729600@victorious-bodhi.org
SUMMARY:Losar 藏历新年直播活动通知
DESCRIPTION:Losar 藏历新年直播活动通知：老师慈悲答应开放直播殊胜的修法 \n\n\n\n\n净山烟供\n\n\n\n黄财神水供\n\n\n\n时轮金刚\n\n\n\n\n时间： \n\n\n\n\n新西兰时间：2025年2月28日上午6点\n\n\n\n亚洲时间：2025年2月28日凌晨1点\n\n\n\n太平洋时间：2025年2月27日早上9点 (PST)\n\n\n\n\nZoom直播详情： \n\n\n\n\n会议号：816 6918 5248\n\n\n\n密码：025228https://us06web.zoom.us/j/81669185248?pwd=cKN3WE1mIExavsMseO92rDnYi45CyM.1\n\n\n\n\n???? 欢迎所有信众参加，共沐法喜！
URL:https://victorious-bodhi.org/event/%e6%96%b0%e5%b9%b4%e7%9b%b4%e6%92%ad%e6%b4%bb%e5%8a%a8%e9%80%9a%e7%9f%a5/
END:VEVENT
BEGIN:VEVENT
DTSTART;TZID=Asia/Singapore:20250228T200000
DTEND;TZID=Asia/Singapore:20250228T213000
DTSTAMP:20260423T230707
CREATED:20250226T172251Z
LAST-MODIFIED:20250227T030945Z
UID:18877-1740772800-1740778200@victorious-bodhi.org
SUMMARY:当AI遇⻅佛法：科技浪潮下的心灵探索
DESCRIPTION:邀请AI专家汪涛和佛法老师慧光堪布，分别从科技、人文和艺术的⻆度，探讨AI与佛法的共通之处，内容包括： \n\n\n\n\nAI技术发展影响与挑战\n\n\n\n佛法智慧科技时代价值\n\n\n\nAI与佛法底层逻辑对照\n\n\n\n人文视角融合可能性\n\n\n\n如何在科技时代保持内心平静\n\n\n\n\n直播时间：2月28日周五 20:00-21:30(亚洲时间)
URL:https://victorious-bodhi.org/event/%e5%bd%93ai%e9%81%87%e2%bb%85%e4%bd%9b%e6%b3%95%ef%bc%9a%e7%a7%91%e6%8a%80%e6%b5%aa%e6%bd%ae%e4%b8%8b%e7%9a%84%e5%bf%83%e7%81%b5%e6%8e%a2%e7%b4%a2/
ATTACH;FMTTYPE=image/jpeg:https://victorious-bodhi.org/wp-content/uploads/2025/02/WechatIMG1030-1.jpg
END:VEVENT
BEGIN:VEVENT
DTSTART;TZID=Asia/Taipei:20250228T210000
DTEND;TZID=Asia/Taipei:20250228T213000
DTSTAMP:20260423T230707
CREATED:20250224T114939Z
LAST-MODIFIED:20250227T121234Z
UID:18810-1740776400-1740778200@victorious-bodhi.org
SUMMARY:2025.02.28台北时间晚上9點左右異象「七星連珠」
DESCRIPTION:難得一見的天空奇觀，我們能作何善相應？ \n\n\n\n   2025.02.28台北时间晚上9點左右異象「七星連珠」即土星、水星、海王星、金星、天王星、木星和火星將罕見的連成一線。\n   這種奇觀的出現，是因為太陽系各行星在圍繞太陽公轉的周期不同，一段時間後，會在特定時刻運行到太陽同一側，從地球上看過去，上述七星在視覺上感覺在同一條直線。\n  七星連珠發生的概率較低，據天文學家計算，以七星的張角小於30°來統計，從公元1年至3000年，一共發生39次 「七星連珠」，平均77年出現一次。\n  在中國古代，「七星連珠」又被稱為「五星聚」，因為天王星和海王星肉眼看不見。\n    中國古代的天文學《史記·天官書》中記載，七星連珠的出現往往與重大歷史事件相關聯，如王朝更替、自然災害或戰爭爆發。\n  在西洋占星學中，七星連珠被視為罕見且強大的星象。占星師認為：當七顆行星在天空中連成一線時，它們的能量會相互疊加，對地球和人類產生深遠的影響，預示著重大事件的爆發或轉折點的到來。（以上內文摘自網路）\n\n  依唸誦《普賢王如來根本願文》暫時的功德利益而言，能平息地水火風四大元素的不協調；依究竟上的功德利益而言，此祈願文實為成佛的捷道，能誦甚善！\n  寶上師更指示大家多多唸誦六道金剛咒：《阿阿 夏沙 瑪哈》\n\n\n\n［普賢王如來祈禱能顯自然智根本願文］ \n\n\n\n法界輪涅諸幻相，一根二道成二果，覺與無明所變現，由我普賢廣大願，令一切於法界宮，現前證得佛陀位，真如體性本無為，法爾廣大不可思，輪迴涅槃名原無，明了法爾即佛陀，眾生無明輪迴轉，普願三界有情眾，斷惑圓證真實義，我普賢王如實說，真如實際離因緣，空性圓具本覺智，內外增減過犯無，失念黑暗心垢離，體性明空無過染，本覺清淨原安住，三界毀壞亦無畏，不著貪欲五濁塵，自顯無別自然智，本淨無色無五毒，自性明照未嘗礙，清淨自性即五智，於此五智成熟中，生起五方原始佛，智慧增廣進詣時，生起文佛四十二，由顯五智威光力，升起六十飲血尊，本體元明未嘗迷，我是原始本初佛，由我清淨廣大願，輪迴三界有情眾，了知自然本覺智，直至圓滿大智慧，剎那無間我幻變，化身等流百俱胝，應由有求善調伏，由於我之悲願力，三界輪迴有情眾，六道苦處悉解脫迷諸惑幻無始眾，由不正知失本明，由失正念住黑暗，彼即無知顛倒因，從彼驚恐悶絕中，念動甦醒生怖畏，自他貪瞋起執持，習氣薰染漸增長，隨行習性逐生死，五陰熾盛苦惱逼，滋生無間五毒業，成為眾生惑幻因，即不正知與失念，由佛所發大願力，皆自了知明覺性，俱生無明蔽本覺，生起失念散亂心，分別無明逐塵境，分立自他二執取，俱生分別二無明，即是眾生顛倒因，由佛所發大願力，令諸輪迴有情眾，消除失念黑暗坑清淨能所二妄執，了知本具自明性，心著二執起猶豫，形成微細貪著心，習氣薰染漸增長，於衣食伴侶財處，以及五欲親眷等，貪著欲樂熾熱惱，彼令世間惑幻生，由是二取業無盡，貪嗜果報成熟時，生貪欲惱餓鬼中，常受難忍饑渴苦，由佛所發大願力，普令貪欲諸有情，不捨外來貪欲境，不取內生貪著根，如如安住自明覺，自心覺了寬坦住，轉成妙觀察智道，外境所顯諸幻相，念動微細怖畏生，從此增長瞋習氣，忿起怨敵殺害心，瞋恚果報成熟時，長受地獄苦煎熬，由佛所發大願力，令趣六道諸眾生，瞋恚猛烈生長時，自心放鬆莫取捨，任持安住自明覺，轉成大圓鏡智道，由於自心高舉起，於他生起憍慢心，如是猛烈勝憍慢，自他欺淩而苦惱，彼業果報成熟時，暫生天道報盡墜，由佛所發大願力，令憍慢心諸眾生，覺了自心寬坦住，任持安住自明覺，轉成平等性智道，由二執薰染習氣，自讚毀他痛苦業，增長鬥爭疑妒心，投生殺戮非天處，果墮泥犁地獄中，由佛所發大願力，嫉妒鬥爭生起時，莫起怨敵心鬆坦，任持安住自明覺，轉成成所作智道，不正念捨及散亂，有藏惛沉和妄念，惛睡懈怠愚癡者，果感畜生無依怙，由佛所發大願力，令心愚癡黑暗者，發露淨心住正念，轉成法界體性智，三界所有諸眾生，真如體性與佛等，失念故成顛倒因，無間造諸無義業，猶如夢幻趣六道，我是最初普賢佛，化身調伏六道眾，我普賢王廣大願，令諸眾生一無餘，無盡法界成正覺，具慈瑜珈大力者，了知自明離惑幻，已發如是廣大願，聞持此願諸眾生，於三生內必成佛，或於日月蝕時日，風暴雷發地動變，或於冬夏至年節，發心自修為普賢，與眾虔敬誦此願，令諸三界有情眾，由彼瑜珈行者願，滅苦解脫生死海，獲證究竟佛陀位。 \n\n\n\n願共道彼岸乘金剛乘，無上教法護持並宏揚！上師蓮華生密意傳承，永恆住世如意皆吉祥！ \n\n\n\n《普賢王如來祈禱能顯自然智根本願文》為北巖藏大圓滿「自生自現」的精華與總綱。密意深廣不可思議，功德殊勝難以量度。依暫時上的功德利益而言，此祈願文能平息地水火風四大元素的不協調；依究竟上的功德利益而言，此祈願文實為成佛的捷道。普賢王如來祈禱文，屬大圓滿無上瑜珈的祈禱文之一，對所有佛法實相有很深的解釋。普賢如來（佛）示現了諸多法與事- 本身表示一尊佛，也表示了每一個人的自性。所以，這篇祈禱文可以說是普賢佛的祈禱文，可以說是作者的祈禱，也可以說是我們對自性的祈禱。
URL:https://victorious-bodhi.org/event/2025-02-28%e5%8f%b0%e5%8c%97%e6%97%b6%e9%97%b4%e6%99%9a%e4%b8%8a9%e9%bb%9e%e5%b7%a6%e5%8f%b3%e7%95%b0%e8%b1%a1%e3%80%8c%e4%b8%83%e6%98%9f%e9%80%a3%e7%8f%a0%e3%80%8d/
ATTACH;FMTTYPE=image/png:https://victorious-bodhi.org/wp-content/uploads/2025/02/截屏2025-02-27-20.07.51.png
END:VEVENT
END:VCALENDAR