BEGIN:VCALENDAR
VERSION:2.0
PRODID:-//勝覺網 - ECPv6.15.17.1//NONSGML v1.0//EN
CALSCALE:GREGORIAN
METHOD:PUBLISH
X-WR-CALNAME:勝覺網
X-ORIGINAL-URL:https://victorious-bodhi.org
X-WR-CALDESC:勝覺網的活动
REFRESH-INTERVAL;VALUE=DURATION:PT1H
X-Robots-Tag:noindex
X-PUBLISHED-TTL:PT1H
BEGIN:VTIMEZONE
TZID:Asia/Singapore
BEGIN:STANDARD
TZOFFSETFROM:+0800
TZOFFSETTO:+0800
TZNAME:+08
DTSTART:20240101T000000
END:STANDARD
END:VTIMEZONE
BEGIN:VTIMEZONE
TZID:Pacific/Auckland
BEGIN:STANDARD
TZOFFSETFROM:+1300
TZOFFSETTO:+1200
TZNAME:NZST
DTSTART:20240406T140000
END:STANDARD
BEGIN:DAYLIGHT
TZOFFSETFROM:+1200
TZOFFSETTO:+1300
TZNAME:NZDT
DTSTART:20240928T140000
END:DAYLIGHT
BEGIN:STANDARD
TZOFFSETFROM:+1300
TZOFFSETTO:+1200
TZNAME:NZST
DTSTART:20250405T140000
END:STANDARD
BEGIN:DAYLIGHT
TZOFFSETFROM:+1200
TZOFFSETTO:+1300
TZNAME:NZDT
DTSTART:20250927T140000
END:DAYLIGHT
BEGIN:STANDARD
TZOFFSETFROM:+1300
TZOFFSETTO:+1200
TZNAME:NZST
DTSTART:20260404T140000
END:STANDARD
BEGIN:DAYLIGHT
TZOFFSETFROM:+1200
TZOFFSETTO:+1300
TZNAME:NZDT
DTSTART:20260926T140000
END:DAYLIGHT
END:VTIMEZONE
BEGIN:VEVENT
DTSTART;TZID=Asia/Singapore:20250503T140000
DTEND;TZID=Asia/Singapore:20250503T170000
DTSTAMP:20260420T040917
CREATED:20250428T080640Z
LAST-MODIFIED:20250502T132302Z
UID:21438-1746280800-1746291600@victorious-bodhi.org
SUMMARY:如何开启永恒的快乐浅谈四无量心
DESCRIPTION:如何开启永恒的快乐浅谈四无量心 ~ 慧光堪布英文翻译：Joey \n\n\n\n日期：2025年5月3日，星期六，下午2点至5点（太平洋标准时间）地点：华盛顿州亨茨角亨茨角大道8485号，邮编98004zoomID：8549296 2385 密码：805817欢迎亲临或通过Zoom加入我们
URL:https://victorious-bodhi.org/event/%e5%a6%82%e4%bd%95%e5%bc%80%e5%90%af%e6%b0%b8%e6%81%92%e7%9a%84%e5%bf%ab%e4%b9%90%e6%b5%85%e8%b0%88%e5%9b%9b%e6%97%a0%e9%87%8f%e5%bf%83/
ATTACH;FMTTYPE=image/jpeg:https://victorious-bodhi.org/wp-content/uploads/2024/12/rigzin_sangha1-1.jpg
END:VEVENT
BEGIN:VEVENT
DTSTART;TZID=Asia/Singapore:20250504T140000
DTEND;TZID=Asia/Singapore:20250504T170000
DTSTAMP:20260420T040917
CREATED:20250502T131100Z
LAST-MODIFIED:20250504T085155Z
UID:21440-1746367200-1746378000@victorious-bodhi.org
SUMMARY:5月4日 下午2点金刚薩埵上师瑜伽《净修现喜刹土》灌顶前开示
DESCRIPTION:5月4日（礼拜天） 下午2点金刚薩埵上师瑜伽《净修现喜刹土》灌顶前面开示直播 \n\n\n\nZoom ID: 8686789868Password: vajra0504 \n\n\n\n地点：神冈妙乘法苑 台中市神冈区神清路322号 \n\n\n\n《龙钦宁体》法藏，是大伏藏师吉美林巴三次亲见龙钦巴祖师后，由其心意中发显流露出所密藏之甚深伏藏秘法，遍传宁玛及噶举各派中修持之精华法门，历来便受各派瑜伽行者所珍重受持为即生成就之大法。 \n\n\n\n其法门包罗甚广，其中三根本之上师部分，有以金刚薩埵为主尊之《金刚薩埵清净现喜刹土之上师成就》，然其为根本仪轨形式，嗣后有蒋扬钦泽旺波，于净相中复受遍智尊者吉美林巴之智慧身摄受而赐予近传之上师供养仪轨正文及支分各事业仪轨，名为「金刚薩埵上师供养仪轨大乐善道」，收录于钦泽旺波所编辑之《龙钦宁体根本经卷》中。 \n\n\n\n金刚薩埵系三时诸佛身语意德业无尽庄严轮共集所成，圆具寂忿百部天众，在无上瑜伽部中许为百部遍主，除以证最胜成就外，另以净罪闻名，历来宁玛派关于本尊的坛城仪轨虽多，广详者为敏珠林传规金刚薩埵意成就、敦珠法王之「金刚薩埵上师供养仪轨与事业」，以及本法三者为最。 \n\n\n\n本轨除自生坛仪外，另有灌顶、超渡、忏堕、息增怀诛四业简易护摩、胜住、甘露法药等重要法门，是宁体法藏中少有同时包含羯磨法仪的完整仪轨，若能蒙具足性相上师教授，可谓一法万用的无上法宝。
URL:https://victorious-bodhi.org/event/5%e6%9c%884%e6%97%a5-%e4%b8%8b%e5%8d%882%e7%82%b9%e9%87%91%e5%88%9a%e8%96%a9%e5%9f%b5%e4%b8%8a%e5%b8%88%e7%91%9c%e4%bc%bd%e3%80%8a%e5%87%80%e4%bf%ae%e7%8e%b0%e5%96%9c%e5%88%b9%e5%9c%9f%e3%80%8b/
ATTACH;FMTTYPE=image/png:https://victorious-bodhi.org/wp-content/uploads/2025/05/截屏2025-05-02-19.12.55.png
END:VEVENT
BEGIN:VEVENT
DTSTART;TZID=Asia/Singapore:20250507T190000
DTEND;TZID=Asia/Singapore:20250507T210000
DTSTAMP:20260420T040917
CREATED:20250506T012617Z
LAST-MODIFIED:20250506T012622Z
UID:21457-1746644400-1746651600@victorious-bodhi.org
SUMMARY:亚洲 莲师初十荟供日
DESCRIPTION:亚洲 莲师初十荟供日慧幢法师 带领共修亚洲时间: 2025年5月7日 星期三 晚上7点 \n\n\n\n加入Zoom会议https://us06web.zoom.us/j/84735856999?pwd=pX0GcJV3xARNoXGiU20rGWkUGbeqbT.1Zoom ID: 847 3585 6999Password : 882714
URL:https://victorious-bodhi.org/event/%e4%ba%9a%e6%b4%b2-%e8%8e%b2%e5%b8%88%e5%88%9d%e5%8d%81%e8%8d%9f%e4%be%9b%e6%97%a5/
ATTACH;FMTTYPE=image/png:https://victorious-bodhi.org/wp-content/uploads/2024/12/慧幢法师.png
END:VEVENT
BEGIN:VEVENT
DTSTART;TZID=Asia/Singapore:20250508T080000
DTEND;TZID=Asia/Singapore:20250508T100000
DTSTAMP:20260420T040917
CREATED:20250506T022600Z
LAST-MODIFIED:20250508T003100Z
UID:21459-1746691200-1746698400@victorious-bodhi.org
SUMMARY:北美 莲师初十荟供日
DESCRIPTION:北美 莲师初十荟供日堪布慧光法师 带领共修美西时间：2025年5月7日 星期三 下午5点亚洲时间：2025年5月8日 星期四 早上 8点加入Zoom会议https://us06web.zoom.us/j/84735856999?pwd=pX0GcJV3xARNoXGiU20rGWkUGbeqbT.1Zoom ID: 847 3585 6999Password : 882714
URL:https://victorious-bodhi.org/event/%e5%8c%97%e7%be%8e-%e8%8e%b2%e5%b8%88%e5%88%9d%e5%8d%81%e8%8d%9f%e4%be%9b%e6%97%a5/
ATTACH;FMTTYPE=image/jpeg:https://victorious-bodhi.org/wp-content/uploads/2024/12/rigzin_sangha1.jpg
END:VEVENT
BEGIN:VEVENT
DTSTART;TZID=Asia/Singapore:20250510T050000
DTEND;TZID=Asia/Singapore:20250510T120000
DTSTAMP:20260420T040917
CREATED:20250509T144600Z
LAST-MODIFIED:20250509T143703Z
UID:21608-1746853200-1746878400@victorious-bodhi.org
SUMMARY:纽西兰第一届卫赛节暨第三届供僧法会直播通知
DESCRIPTION:纽西兰第一届卫赛节暨第三届供僧法会地点： 观音山道场时间安排： \n\n\n\n\n纽西兰时间：9:00am\n\n\n\n中国时间：05:00am\n\n\n\n美西时间：14:00pm\n\n\n\n\n线上参与方式： \n\n\n\n\nZoom ID: 868 6789 868\n\n\n\n密码: 334134\n\n\n\nYouTube 直播: https://youtube.com/@padmaati?si=Q1zlcHk_X6HVEQBm\n\n\n\n\n往年法会视频： \n\n\n\n\n2024年：第二届佛教供僧暨僧伽联谊大会 \n\n\n\n2023年：第一届佛教供僧暨僧伽联谊大会 \n\n\n\n\n愿一切众生平安喜乐！
URL:https://victorious-bodhi.org/event/%e7%ba%bd%e8%a5%bf%e5%85%b0%e7%ac%ac%e4%b8%80%e5%b1%8a%e5%8d%ab%e8%b5%9b%e8%8a%82%e6%9a%a8%e7%ac%ac%e4%b8%89%e5%b1%8a%e4%be%9b%e5%83%a7%e6%b3%95%e4%bc%9a%e7%9b%b4%e6%92%ad%e9%80%9a%e7%9f%a5/
ATTACH;FMTTYPE=image/jpeg:https://victorious-bodhi.org/wp-content/uploads/2025/02/20250220111008.jpg
END:VEVENT
BEGIN:VEVENT
DTSTART;TZID=Asia/Singapore:20250510T090000
DTEND;TZID=Asia/Singapore:20250510T170000
DTSTAMP:20260420T040917
CREATED:20250410T084316Z
LAST-MODIFIED:20250509T143630Z
UID:18781-1746867600-1746896400@victorious-bodhi.org
SUMMARY:[邀请函] 纽西兰首届佛教界联合卫塞节庆典暨第三届供僧法会
DESCRIPTION:诚邀您参加纽西兰佛教史上的重要里程碑！日期：2025年5月10日（星期六）时间：上午9时正地点：观音山道场（67 Beaver Road East\, RD2 Pokeno\, Auckland） \n\n\n\n这是纽西兰各佛教团体首次联合纪念卫塞节——庆祝佛陀诞生、成道和涅槃的神圣日子。在2023年和2024年成功举办供僧法会的基础上，这次联合庆典标志着纽西兰佛教和谐发展的重要一步。我们欢迎所有愿意参加这个殊胜庆典的人！敬请法师们于2025年4月23日前回覆 \n\n\n\n联络人：William：022 010 7688Jessica：021 101 0851Sophie：021 216 3216电邮：info@atiorg.com \n\n\n\n如需住宿安排或交通协助，请告知。 \n\n\n\n往年法会视频： \n\n\n\n\n2024年：第二届佛教供僧暨僧伽联谊大会 \n\n\n\n2023年：第一届佛教供僧暨僧伽联谊大会 \n\n\n\n\n愿一切众生平安喜乐！ \n\n\n\n卫塞节 #佛教 #纽西兰 #佛教社区 #观音山道场 #佛教庆典 #卫塞节2025 #纽西兰佛教
URL:https://victorious-bodhi.org/event/%e9%82%80%e8%af%b7%e5%87%bd-%e7%ba%bd%e8%a5%bf%e5%85%b0%e9%a6%96%e5%b1%8a%e4%bd%9b%e6%95%99%e7%95%8c%e8%81%94%e5%90%88%e5%8d%ab%e5%a1%9e%e8%8a%82%e5%ba%86%e5%85%b8%e6%9a%a8%e7%ac%ac%e4%b8%89/
ATTACH;FMTTYPE=image/jpeg:https://victorious-bodhi.org/wp-content/uploads/2025/02/20250220111008.jpg
END:VEVENT
BEGIN:VEVENT
DTSTART;TZID=Pacific/Auckland:20250511T140000
DTEND;TZID=Pacific/Auckland:20250622T160000
DTSTAMP:20260420T040917
CREATED:20250509T145600Z
LAST-MODIFIED:20250513T040128Z
UID:21598-1746972000-1750608000@victorious-bodhi.org
SUMMARY:《虚空舞妙力》观音·度母唐卡艺术展开幕式
DESCRIPTION:开幕式：5月11日 周日下午2点（奥克兰时间）5月11日 周日上午10点（亚洲时间） \n\n\n\n策展人:Webb’s开幕式嘉宾:LindaTyler唐卡收藏家/鉴赏家/指导顾问噶陀仁珍千宝仁波切 \n\n\n\n协办单位:Padma Ati Buddhist Institute IAffliated with Jeta’s Grove Charitable Trust \n\n\n\n奥克兰展览:2025丰5月11日至6月22日开放时间：每周六，周日下午13:00-17:00其他时间参观：请扫码预约。 \n\n\n\n需提前48小时申请威灵顿展览2025丰7月起预定度母画册或卡印刷品请扫码。 \n\n\n\n呼唤慈母\n\n\n\n音频： \n\n\n\n\n\n\n\n视频：呼唤慈母 \n\n\n\nYoutube：呼唤慈母 \n\n\n\nFaceBook：呼唤慈母 \n\n\n\nEmaho!Tara Tara Tara， \n\n\n\n慈悲的母亲，至诚的祈祷，请赐加持 — 自在宁静的心情。Tara Tara Tara， \n\n\n\n慈悲的母亲，至诚的祈祷，请赐加持 — 丰富知足的财富Tara Tara Tara， \n\n\n\n慈悲的母亲，至诚的祈祷，请赐加持 — 明理通达的智慧。Tara Tara Tara， \n\n\n\n慈悲的母亲，至诚的祈祷，请赐加持 — 自利利生的事业。Tara Tara Tara， \n\n\n\n慈悲的母亲，至诚的祈祷，请赐加持 — 寂静圆满的成果。Tara Tara Tara， \n\n\n\n慈悲的母亲，至诚的祈祷，请赐加持sidhi\, sidhi\, sidhi ！Phala\, phala\, phala.jaiya. jaiya\, jaiya. \n\n\n\n—-仁珍千宝 \n\n\n\n至诚的祈祷！家庭和乐，福寿健康，国泰民安，世界和平。 \n\n\n\n媒体报道： \n\n\n\n\n千年艺术走进长白云之乡：“观音·度母”唐卡艺术展即将登陆奥克兰\n\n\n\n跨越喜马拉雅的信仰之美：全球首个观音·度母唐卡艺术展亮相奥克兰
URL:https://victorious-bodhi.org/event/%e3%80%8a%e8%99%9a%e7%a9%ba%e8%88%9e%e5%a6%99%e5%8a%9b%e3%80%8b%e8%a7%82%e9%9f%b3%c2%b7%e5%ba%a6%e6%af%8d%e5%94%90%e5%8d%a1%e8%89%ba%e6%9c%af%e5%b1%95%e5%bc%80%e5%b9%95%e5%bc%8f/
ATTACH;FMTTYPE=image/jpeg:https://victorious-bodhi.org/wp-content/uploads/2025/05/第三屆佛教供僧暨僧伽聯誼大會（中文）.jpeg
END:VEVENT
BEGIN:VEVENT
DTSTART;TZID=Asia/Singapore:20250526T160000
DTEND;TZID=Asia/Singapore:20250531T183000
DTSTAMP:20260420T040917
CREATED:20250516T142600Z
LAST-MODIFIED:20250516T150014Z
UID:21883-1748275200-1748716200@victorious-bodhi.org
SUMMARY:大圆满耳传金刚桥：发菩提心实修引领(6节课)
DESCRIPTION:上课老师：慧光堪布Teacher：Khenpo Huiguang \n\n\n\n大圆满耳传金刚桥：发菩提心实修引领(6节课)Vajra Bridge of the Great Perfection (Take refuge\, Generate bodhicitta) \n\n\n\n日期：2025年5月26-30日纽西兰时间20点;亚洲时间16点;太平洋时间凌晨1点 \n\n\n\n日期2025年5月31日纽西兰时间14点;亚洲时间10点;太平洋时间7pm(-1天)参加要求：得过金刚桥口传的均可参加直播信息：Zoom：83265836044;密码：334134电子邮件Email：info@atiorg.com;电话 Phone/Wha+’sApp：+(64)211010851;+(64)212163216;(64)211385113;Wechat：j7788990;BrightSophie;lijiao_gsdx \n\n\n\n课程链接：大圆满耳傅金刚桥第一期
URL:https://victorious-bodhi.org/event/%e5%a4%a7%e5%9c%86%e6%bb%bf%e8%80%b3%e5%82%b3%e9%87%91%e5%89%9b%e6%a9%8b%e5%8f%91%e8%8f%a9%e6%8f%90%e5%bf%83%e5%ae%9e%e4%bf%ae%e5%bc%95%e9%a2%866%e8%8a%82%e8%af%be/
ATTACH;FMTTYPE=image/jpeg:https://victorious-bodhi.org/wp-content/uploads/2025/05/截屏2025-05-16-16.28.24.jpg
END:VEVENT
END:VCALENDAR