BEGIN:VCALENDAR
VERSION:2.0
PRODID:-//勝覺網 - ECPv6.15.17.1//NONSGML v1.0//EN
CALSCALE:GREGORIAN
METHOD:PUBLISH
X-WR-CALNAME:勝覺網
X-ORIGINAL-URL:https://victorious-bodhi.org
X-WR-CALDESC:勝覺網的活动
REFRESH-INTERVAL;VALUE=DURATION:PT1H
X-Robots-Tag:noindex
X-PUBLISHED-TTL:PT1H
BEGIN:VTIMEZONE
TZID:Asia/Singapore
BEGIN:STANDARD
TZOFFSETFROM:+0800
TZOFFSETTO:+0800
TZNAME:+08
DTSTART:20240101T000000
END:STANDARD
END:VTIMEZONE
BEGIN:VEVENT
DTSTART;TZID=Asia/Singapore:20250705T080000
DTEND;TZID=Asia/Singapore:20250705T110000
DTSTAMP:20260421T174938
CREATED:20250701T140200Z
LAST-MODIFIED:20250701T125701Z
UID:24228-1751702400-1751713200@victorious-bodhi.org
SUMMARY:北美蓮師初十薈供日
DESCRIPTION:North America Padmasambhava Tsok Offering DayDate: July 04. Friday 5pm (PST) \n\n\n\n北美 蓮師初十薈供日 慧幢法师 线上领众共修美西時間：2025年7月4日星期五 下午5點亞洲時間：2025年7月5日星期六 早上 8點 \n\n\n\nJoin Zoom meetinghttps://us06web.zoom.us/j/81431884439?pwd=4EANIvZtJ7hA1p8PRLiyp4DiwUdvlJ.1 \n\n\n\nZoom ID: 814 3188 4439Password : 870737
URL:https://victorious-bodhi.org/event/%e5%8c%97%e7%be%8e%e8%93%ae%e5%b8%ab%e5%88%9d%e5%8d%81%e8%96%88%e4%be%9b%e6%97%a5/
ATTACH;FMTTYPE=image/png:https://victorious-bodhi.org/wp-content/uploads/2024/12/慧幢法师.png
END:VEVENT
BEGIN:VEVENT
DTSTART;TZID=Asia/Singapore:20250711T150000
DTEND;TZID=Asia/Singapore:20250713T170000
DTSTAMP:20260421T174938
CREATED:20250711T004900Z
LAST-MODIFIED:20250711T005104Z
UID:24554-1752246000-1752426000@victorious-bodhi.org
SUMMARY:贝玛阿谛佛学院第二届金刚桥课程：金刚桥总义上课及问答
DESCRIPTION:顶礼上师三寰!现通知贝玛阿谛佛学院第二届金刚桥课程安排如下: \n\n\n\n课程信息\n\n\n\n课程内容：金刚桥总义上课及问答课程内容:授课上师：院长仁珍千宝仁波切上课对象：第二届新生 \n\n\n\n上课时间安排\n\n\n\n第一节课：2025年7月11日\n\n\n\n\n纽西兰时间：晚19:00\n\n\n\n中国时间：下午15:00\n\n\n\n美西时间：凌晨00:00\n\n\n\n\n第二节课：2025年7月12日(星期六)\n\n\n\n\n时间同上\n\n\n\n\n第三节课：2025年7月13日(星期日)\n\n\n\n\n时间同上\n\n\n\n\n会议室信息\n\n\n\nzoom会议链接：https://us06web.zoom.us/j/83520392348?pwd=bcEAxGolmGbjhp5zamvalTvsKJFdrs.1会议室号码：835 2039 2348密码：937459 \n\n\n\n特别说明\n\n\n\n此次课程是院长仁珍千宝仁波切慈悲允诺，专门为第二届新生开设的金刚桥总义教学。课程将包含系统讲解和问答环节，请各位同修珍惜这殊胜的闻法机缘。
URL:https://victorious-bodhi.org/event/%e8%b4%9d%e7%8e%9b%e9%98%bf%e8%b0%9b%e4%bd%9b%e5%ad%a6%e9%99%a2%e7%ac%ac%e4%ba%8c%e5%b1%8a%e9%87%91%e5%88%9a%e6%a1%a5%e8%af%be%e7%a8%8b%ef%bc%9a%e9%87%91%e5%88%9a%e6%a1%a5%e6%80%bb%e4%b9%89%e4%b8%8a/
ATTACH;FMTTYPE=image/jpeg:https://victorious-bodhi.org/wp-content/uploads/2025/06/宝上师的上师们.jpg
END:VEVENT
BEGIN:VEVENT
DTSTART;TZID=Asia/Singapore:20250719T100000
DTEND;TZID=Asia/Singapore:20250719T123000
DTSTAMP:20260421T174938
CREATED:20250719T001611Z
LAST-MODIFIED:20250815T024511Z
UID:24744-1752919200-1752928200@victorious-bodhi.org
SUMMARY:贝玛阿谛第二届大圆满金刚桥实修班通知
DESCRIPTION:贝玛阿谛第二届大圆满金刚桥实修班通知 \n\n\n\n课程资讯： \n\n\n\n主题： 四转心法实修引领+问答带领： 宝上师+慧光堪布日期： 空行日 2025年7月19日 \n\n\n\n时间安排 \n\n\n\n\n纽西兰时间： 14:00-16:30\n\n\n\n中国时间： 10:00-12:30\n\n\n\n美西时间： 19:00-21:30（7月18日）\n\n\n\n\nZoom会议室资讯： \n\n\n\n\n会议ID：882 9697 6347\n\n\n\n密码：442206\n\n\n\n连结：https://us06web.zoom.us/j/88296976347?pwd=XJTFMXPbmP0fdsfNJzrn2aEq1CPkum.1\n\n\n\n\n参加须知 \n\n\n\n\n请提前5-10分钟进入会议室\n\n\n\n建议准备好笔记本和笔\n\n\n\n保持安静的修行环境\n\n\n\n课程期间请静音，如有问题可在聊天区提问主持人\n\n\n\n\n愿一切众生离苦得乐！
URL:https://victorious-bodhi.org/event/%e8%b4%9d%e7%8e%9b%e9%98%bf%e8%b0%9b%e7%ac%ac%e4%ba%8c%e5%b1%8adym%e9%87%91%e5%88%9a%e6%a1%a5sx%e7%8f%ad%e9%80%9a%e7%9f%a5/
ATTACH;FMTTYPE=image/jpeg:https://victorious-bodhi.org/wp-content/uploads/2025/07/贝玛阿谛第二届金刚桥实修班：宝上师总义开示第三节课-封面.jpg
END:VEVENT
END:VCALENDAR